BEGIN:VCALENDAR
VERSION:2.0
PRODID:-//FC FORTUNA SCHLANGEN - ECPv6.15.20//NONSGML v1.0//EN
CALSCALE:GREGORIAN
METHOD:PUBLISH
X-ORIGINAL-URL:https://fortuna-schlangen.de
X-WR-CALDESC:Veranstaltungen für FC FORTUNA SCHLANGEN
REFRESH-INTERVAL;VALUE=DURATION:PT1H
X-Robots-Tag:noindex
X-PUBLISHED-TTL:PT1H
BEGIN:VTIMEZONE
TZID:Europe/Berlin
BEGIN:DAYLIGHT
TZOFFSETFROM:+0100
TZOFFSETTO:+0200
TZNAME:CEST
DTSTART:20230326T010000
END:DAYLIGHT
BEGIN:STANDARD
TZOFFSETFROM:+0200
TZOFFSETTO:+0100
TZNAME:CET
DTSTART:20231029T010000
END:STANDARD
BEGIN:DAYLIGHT
TZOFFSETFROM:+0100
TZOFFSETTO:+0200
TZNAME:CEST
DTSTART:20240331T010000
END:DAYLIGHT
BEGIN:STANDARD
TZOFFSETFROM:+0200
TZOFFSETTO:+0100
TZNAME:CET
DTSTART:20241027T010000
END:STANDARD
BEGIN:DAYLIGHT
TZOFFSETFROM:+0100
TZOFFSETTO:+0200
TZNAME:CEST
DTSTART:20250330T010000
END:DAYLIGHT
BEGIN:STANDARD
TZOFFSETFROM:+0200
TZOFFSETTO:+0100
TZNAME:CET
DTSTART:20251026T010000
END:STANDARD
END:VTIMEZONE
BEGIN:VEVENT
DTSTART;TZID=Europe/Berlin:20240901T103000
DTEND;TZID=Europe/Berlin:20240901T130000
DTSTAMP:20260425T211916
CREATED:20240721T111812Z
LAST-MODIFIED:20240721T111812Z
UID:21232-1725186600-1725195600@fortuna-schlangen.de
SUMMARY:A-Jgd. Bezirksliga: A1-JSG  -  SG FA Herringhausen/Eickum / M-Spiel ; 11 Uhr !
DESCRIPTION:Meisterschaftsspiel der A1-JSG / Anstoss um 11:00 Uhr in Schlangen !
URL:https://fortuna-schlangen.de/event/a-jgd-bezirksliga-a1-jsg-sg-fa-herringhausen-eickum-m-spiel-11-uhr/
LOCATION:Kunstrasenplatz Rennekamp\, Badstraße\, Schlangen\, NRW\, 33189\, Deutschland
CATEGORIES:Meisterschaftsspiel,Sonstige Veranstaltung
END:VEVENT
BEGIN:VEVENT
DTSTART;TZID=Europe/Berlin:20240901T110000
DTEND;TZID=Europe/Berlin:20240901T180000
DTSTAMP:20260425T211916
CREATED:20240702T185025Z
LAST-MODIFIED:20240702T185025Z
UID:21074-1725188400-1725213600@fortuna-schlangen.de
SUMMARY:125 Jahre VfL Schlangen / Normaler Meisterschaftsbetrieb der Fussballer !
DESCRIPTION:Feierlichkeiten vom VfL Schlangen / \nAber regulärer Spieltag aufm Platz\, wenn Heimspiel angesetzt ist !
URL:https://fortuna-schlangen.de/event/125-jahre-vfl-schlangen-normaler-meisterschaftsbetrieb-der-fussballer/
LOCATION:Gesamtes Fortuna Sportgelände\, Badstraße\, Schlangen\, 33189\, Deutschland
CATEGORIES:Meisterschaftsspiel,Sonstige Veranstaltung
END:VEVENT
BEGIN:VEVENT
DTSTART;TZID=Europe/Berlin:20240904T163000
DTEND;TZID=Europe/Berlin:20240904T180000
DTSTAMP:20260425T211916
CREATED:20240805T163300Z
LAST-MODIFIED:20240820T145331Z
UID:21327-1725467400-1725472800@fortuna-schlangen.de
SUMMARY:Meisterschaft: E3-JSG  -  JSG Südostlippe 3 / M-Spiel ; 17 Uhr !
DESCRIPTION:Meisterschaftsspiel / Anstoss um 17:00 Uhr in Schlangen !
URL:https://fortuna-schlangen.de/event/meisterschaft-e3-jsg-jsg-suedostlippe-3-m-spiel-13-uhr/
LOCATION:Kunstrasen – Platzhälfte Süd\, Badstraße\, Schlangen\, NRW\, 33189\, Deutschland
CATEGORIES:Meisterschaftsspiel,Sonstige Veranstaltung
END:VEVENT
BEGIN:VEVENT
DTSTART;TZID=Europe/Berlin:20240905T180000
DTEND;TZID=Europe/Berlin:20240905T233000
DTSTAMP:20260425T211916
CREATED:20240708T123610Z
LAST-MODIFIED:20240820T150408Z
UID:21102-1725559200-1725579000@fortuna-schlangen.de
SUMMARY:Fortunas 4Days (Sportfest) : EA-Games Turnier für Jung und Alt ! Ab 18 Uhr !
DESCRIPTION:Premiere EA-Games am Sporthaus ! \nBeginn: 18:00 Uhr !
URL:https://fortuna-schlangen.de/event/fortunas-4days-sportfest-spiele-und-turniere/
LOCATION:Vereinsheim und Terrasse
CATEGORIES:Sonstige Veranstaltung,Sportwoche,Turnier,VEREINSHEIM
END:VEVENT
BEGIN:VEVENT
DTSTART;TZID=Europe/Berlin:20240905T181500
DTEND;TZID=Europe/Berlin:20240905T201500
DTSTAMP:20260425T211916
CREATED:20231212T173143Z
LAST-MODIFIED:20231212T173143Z
UID:19782-1725560100-1725567300@fortuna-schlangen.de
SUMMARY:Sportabzeichen VfL Schlangen / Von 18:30 - 20 Uhr !
DESCRIPTION:Training / Übungen / Sportabzeichen ; Von 18:30 Uhr – 20:00 Uhr in Schlangen !
URL:https://fortuna-schlangen.de/event/sportabzeichen-vfl-schlangen-von-1830-20-uhr-5/
LOCATION:Laufbahn Sportanlage Rennekamp
CATEGORIES:Sonstige Veranstaltung,Training
END:VEVENT
BEGIN:VEVENT
DTSTART;TZID=Europe/Berlin:20240906T160000
DTEND;TZID=Europe/Berlin:20240906T233000
DTSTAMP:20260425T211916
CREATED:20240708T123920Z
LAST-MODIFIED:20240708T123920Z
UID:21106-1725638400-1725665400@fortuna-schlangen.de
SUMMARY:Fortunas 4Days (Sportfest) / Spiele und Turniere !
DESCRIPTION:Sportveranstaltungen\, Feierlichkeiten und noch viel mehr ……… !
URL:https://fortuna-schlangen.de/event/fortunas-4days-sportfest-spiele-und-turniere-2/
LOCATION:Gesamtes Fortuna Sportgelände\, Badstraße\, Schlangen\, 33189\, Deutschland
CATEGORIES:Sonstige Veranstaltung,Sportwoche,Turnier,VEREINSHEIM
END:VEVENT
BEGIN:VEVENT
DTSTART;TZID=Europe/Berlin:20240906T180000
DTEND;TZID=Europe/Berlin:20240906T203000
DTSTAMP:20260425T211916
CREATED:20240820T150901Z
LAST-MODIFIED:20240820T150922Z
UID:21568-1725645600-1725654600@fortuna-schlangen.de
SUMMARY:Alte Herren Fortuna  -  Alte Herren SF Oesterholz-Kohlstädt / F-Spiel ; 18:30 Uhr ! (Sportfest) !
DESCRIPTION:Ein Einlagespiel Alte Herren \, ab 18:30 Uhr ! \nMit “After Work Party” danach !
URL:https://fortuna-schlangen.de/event/alte-herren-fortuna-alte-herren-sf-oesterholz-kohlstaedt-f-spiel-1830-uhr-sportfest/
LOCATION:Kunstrasenplatz Rennekamp\, Badstraße\, Schlangen\, NRW\, 33189\, Deutschland
CATEGORIES:Freundschaftsspiel,Sonstige Veranstaltung,Sportwoche
END:VEVENT
BEGIN:VEVENT
DTSTART;TZID=Europe/Berlin:20240906T200000
DTEND;TZID=Europe/Berlin:20240906T235900
DTSTAMP:20260425T211916
CREATED:20240821T171159Z
LAST-MODIFIED:20240821T171232Z
UID:21577-1725652800-1725667140@fortuna-schlangen.de
SUMMARY:" After Work Party " ab 20 Uhr \, für Jung und Alt ! Einfach mal gemeinsam Feiern !
DESCRIPTION:Sportgelände Fortuna Schlangen ! \nErst Alte Herren Spiel und dann ab 20 Uhr feiern !
URL:https://fortuna-schlangen.de/event/after-work-party-ab-20-uhr-fuer-jung-und-alt-einfach-mal-gemeinsam-feiern/
LOCATION:Gesamtes Fortuna Sportgelände\, Badstraße\, Schlangen\, 33189\, Deutschland
CATEGORIES:Sonstige Veranstaltung,Sportwoche,Vereinsheim Terrasse
END:VEVENT
BEGIN:VEVENT
DTSTART;TZID=Europe/Berlin:20240907T090000
DTEND;TZID=Europe/Berlin:20240907T123000
DTSTAMP:20260425T211916
CREATED:20240805T162848Z
LAST-MODIFIED:20240820T145809Z
UID:21324-1725699600-1725712200@fortuna-schlangen.de
SUMMARY:F-Junioren Tunier (Sportfest) ; Beginn: 9:30 Uhr !
DESCRIPTION:Freundschaftsturnier der F-Junioren ; \nab 9:30 Uhr in Schlangen !
URL:https://fortuna-schlangen.de/event/mini-kicker-runde-sportfest-beginn-930-uhr/
LOCATION:Kunstrasenplatz Rennekamp\, Badstraße\, Schlangen\, NRW\, 33189\, Deutschland
CATEGORIES:Sonstige Veranstaltung,Sportwoche,Turnier
END:VEVENT
BEGIN:VEVENT
DTSTART;TZID=Europe/Berlin:20240907T090000
DTEND;TZID=Europe/Berlin:20240907T233000
DTSTAMP:20260425T211916
CREATED:20240708T124114Z
LAST-MODIFIED:20240820T145916Z
UID:21109-1725699600-1725751800@fortuna-schlangen.de
SUMMARY:Fortunas 4Days (Sportfest) / Spiele und Turniere !
DESCRIPTION:Sportveranstaltungen\, Feierlichkeiten und noch viel mehr …….. !
URL:https://fortuna-schlangen.de/event/fortunas-4days-sportfest-spiele-und-turniere-3/
LOCATION:Gesamtes Fortuna Sportgelände\, Badstraße\, Schlangen\, 33189\, Deutschland
CATEGORIES:Meisterschaftsspiel,Sonstige Veranstaltung,Sportwoche,Turnier,VEREINSHEIM
END:VEVENT
BEGIN:VEVENT
DTSTART;TZID=Europe/Berlin:20240907T123000
DTEND;TZID=Europe/Berlin:20240907T140000
DTSTAMP:20260425T211916
CREATED:20240805T163917Z
LAST-MODIFIED:20240805T163926Z
UID:21329-1725712200-1725717600@fortuna-schlangen.de
SUMMARY:Meisterschaft: E2-JSG  -  JSG Augustdorf-Hörste 2 / M-Spiel ; 13 Uhr ! (Sportfest)
DESCRIPTION:Meisterschaftsspiel ; Anstoss um 13:00 Uhr in Schlangen !
URL:https://fortuna-schlangen.de/event/meisterschaft-e2-jsg-jsg-augustdorf-hoerste-2-m-spiel-13-uhr-sportfest/
LOCATION:Kunstrasen – Platzhälfte Süd\, Badstraße\, Schlangen\, NRW\, 33189\, Deutschland
CATEGORIES:Meisterschaftsspiel,Sonstige Veranstaltung,Sportwoche
END:VEVENT
BEGIN:VEVENT
DTSTART;TZID=Europe/Berlin:20240907T140000
DTEND;TZID=Europe/Berlin:20240907T154500
DTSTAMP:20260425T211916
CREATED:20240805T164402Z
LAST-MODIFIED:20240805T164422Z
UID:21331-1725717600-1725723900@fortuna-schlangen.de
SUMMARY:Meisterschaft: E1-JSG  -  Post TSV Detmold / M-Spiel ; 14:30 Uhr ! (Sportfest)
DESCRIPTION:Meisterschaftsspiel ; Anstoss um 14:30 Uhr in Schlangen !
URL:https://fortuna-schlangen.de/event/meisterschaft-e1-jsg-post-tsv-detmold-m-spiel-1430-uhr-sportfest/
LOCATION:Kunstrasen – Platzhälfte Nord\, Badstraße\, Schlangen\, NRW\, 33189\, Deutschland
CATEGORIES:Meisterschaftsspiel,Sonstige Veranstaltung,Sportwoche
END:VEVENT
BEGIN:VEVENT
DTSTART;TZID=Europe/Berlin:20240907T140000
DTEND;TZID=Europe/Berlin:20240907T154500
DTSTAMP:20260425T211916
CREATED:20240805T165021Z
LAST-MODIFIED:20240805T165028Z
UID:21333-1725717600-1725723900@fortuna-schlangen.de
SUMMARY:Meisterschaft: D2-JSG  -  JSG Kachtenhausen-Helpup U13 / M-Spiel ; 14:30 Uhr ! (Sportfest)
DESCRIPTION:Meisterschaftsspiel ; Anstoss um 14:30 Uhr in Schlangen !
URL:https://fortuna-schlangen.de/event/meisterschaft-d2-jsg-jsg-kachtenhausen-helpup-u13-m-spiel-1430-uhr-sportfest/
LOCATION:Kunstrasen – Platzhälfte Süd\, Badstraße\, Schlangen\, NRW\, 33189\, Deutschland
CATEGORIES:Meisterschaftsspiel,Sonstige Veranstaltung,Sportwoche
END:VEVENT
BEGIN:VEVENT
DTSTART;TZID=Europe/Berlin:20240907T160000
DTEND;TZID=Europe/Berlin:20240907T180000
DTSTAMP:20260425T211916
CREATED:20240805T165346Z
LAST-MODIFIED:20240805T165426Z
UID:21335-1725724800-1725732000@fortuna-schlangen.de
SUMMARY:Pokal: C1-JSG  -  JSG Hügelland / P-Spiel ; 16:30 Uhr ! (Sportfest)
DESCRIPTION:Pokalspiel 1.Runde / Anstoss um 16:30 Uhr in Schlangen !
URL:https://fortuna-schlangen.de/event/pokal-c1-jsg-jsg-huegelland-p-spiel-1630-uhr-sportfest/
LOCATION:Kunstrasenplatz Rennekamp\, Badstraße\, Schlangen\, NRW\, 33189\, Deutschland
CATEGORIES:Pokalspiel,Sonstige Veranstaltung,Sportwoche
END:VEVENT
BEGIN:VEVENT
DTSTART;TZID=Europe/Berlin:20240907T180000
DTEND;TZID=Europe/Berlin:20240907T203000
DTSTAMP:20260425T211916
CREATED:20240805T165656Z
LAST-MODIFIED:20240805T165703Z
UID:21337-1725732000-1725741000@fortuna-schlangen.de
SUMMARY:Meisterschaft: A2-JSG  -  JSG Hügelland / M-Spiel ; 18:30 Uhr ! (Sportfest)
DESCRIPTION:Meisterschaftsspiel ; Anstoss um 18:30 Uhr in Schlangen !
URL:https://fortuna-schlangen.de/event/meisterschaft-a2-jsg-jsg-huegelland-m-spiel-1830-uhr-sportfest/
LOCATION:Kunstrasenplatz Rennekamp\, Badstraße\, Schlangen\, NRW\, 33189\, Deutschland
CATEGORIES:Meisterschaftsspiel,Sonstige Veranstaltung,Sportwoche
END:VEVENT
BEGIN:VEVENT
DTSTART;TZID=Europe/Berlin:20240908T090000
DTEND;TZID=Europe/Berlin:20240908T210000
DTSTAMP:20260425T211916
CREATED:20240708T124349Z
LAST-MODIFIED:20240708T124349Z
UID:21113-1725786000-1725829200@fortuna-schlangen.de
SUMMARY:Fortunas 4Days (Sportfest) / Spiele und Turniere !
DESCRIPTION:Sportveranstaltungen\, Feierlichkeiten und noch viel mehr …….. !
URL:https://fortuna-schlangen.de/event/fortunas-4days-sportfest-spiele-und-turniere-4/
LOCATION:Gesamtes Fortuna Sportgelände\, Badstraße\, Schlangen\, 33189\, Deutschland
CATEGORIES:Sonstige Veranstaltung,Sportwoche,Turnier,VEREINSHEIM
END:VEVENT
BEGIN:VEVENT
DTSTART;TZID=Europe/Berlin:20240908T103000
DTEND;TZID=Europe/Berlin:20240908T130000
DTSTAMP:20260425T211916
CREATED:20240805T171043Z
LAST-MODIFIED:20240805T171043Z
UID:21345-1725791400-1725800400@fortuna-schlangen.de
SUMMARY:Meisterschaft: A1-JSG  -  JSG TuS Stemwede / M-Spiel ; 11 Uhr ! (Sportfest)
DESCRIPTION:Meisterschaftsspiel ; Anstoss um 11:00 Uhr in Schlangen !
URL:https://fortuna-schlangen.de/event/meisterschaft-a1-jsg-jsg-tus-stemwede-m-spiel-11-uhr-sportfest/
LOCATION:Kunstrasenplatz Rennekamp\, Badstraße\, Schlangen\, NRW\, 33189\, Deutschland
CATEGORIES:Meisterschaftsspiel,Sonstige Veranstaltung,Sportwoche
END:VEVENT
BEGIN:VEVENT
DTSTART;TZID=Europe/Berlin:20240908T130000
DTEND;TZID=Europe/Berlin:20240908T150000
DTSTAMP:20260425T211916
CREATED:20240721T112241Z
LAST-MODIFIED:20240805T170447Z
UID:21235-1725800400-1725807600@fortuna-schlangen.de
SUMMARY:B-Liga: Fortuna 2  -  SG Hiddesen-Heidenoldendorf 3 / M-Spiel ; 13:15 Uhr ! (Sportfest)
DESCRIPTION:Meisterschaftsspiel der 2ten / Anstoss um 13:15 Uhr in Schlangen !
URL:https://fortuna-schlangen.de/event/b-liga-fortuna-2-sg-hiddesen-heidenoldendorf-3-m-spiel-noch-offen/
LOCATION:Kunstrasenplatz Rennekamp\, Badstraße\, Schlangen\, NRW\, 33189\, Deutschland
CATEGORIES:Meisterschaftsspiel,Sonstige Veranstaltung,Sportwoche
END:VEVENT
BEGIN:VEVENT
DTSTART;TZID=Europe/Berlin:20240908T150000
DTEND;TZID=Europe/Berlin:20240908T173000
DTSTAMP:20260425T211916
CREATED:20240721T112551Z
LAST-MODIFIED:20240805T170623Z
UID:21238-1725807600-1725816600@fortuna-schlangen.de
SUMMARY:A-Liga: Fortuna 1  -  TuS Kachtenhausen / M-Spiel ; 15:30 Uhr ! (Sportfest)
DESCRIPTION:Meisterschaftsspiel der 1ten / Anstoss um 15:30 Uhr in Schlangen !
URL:https://fortuna-schlangen.de/event/a-liga-fortuna-1-tus-kachtenhausen-m-spiel-noch-offen/
LOCATION:Kunstrasenplatz Rennekamp\, Badstraße\, Schlangen\, NRW\, 33189\, Deutschland
CATEGORIES:Meisterschaftsspiel,Sonstige Veranstaltung,Sportwoche
END:VEVENT
BEGIN:VEVENT
DTSTART;TZID=Europe/Berlin:20240910T173000
DTEND;TZID=Europe/Berlin:20240910T193000
DTSTAMP:20260425T211916
CREATED:20240807T163828Z
LAST-MODIFIED:20240906T072810Z
UID:21373-1725989400-1725996600@fortuna-schlangen.de
SUMMARY:Pokalspiel: D1-JSG  -  FSV Pivitsheide / P-Spiel ; 18 Uhr !
DESCRIPTION:1. Pokalrunde ; Anstoss um 18:00 Uhr in Schlangen !
URL:https://fortuna-schlangen.de/event/voraussichtlich-pokalspiel-d1-jsg-fsv-pivitsheide-p-spiel-18-uhr/
LOCATION:Kunstrasenplatz Rennekamp\, Badstraße\, Schlangen\, NRW\, 33189\, Deutschland
CATEGORIES:Pokalspiel,Sonstige Veranstaltung
END:VEVENT
BEGIN:VEVENT
DTSTART;TZID=Europe/Berlin:20240910T190000
DTEND;TZID=Europe/Berlin:20240910T210000
DTSTAMP:20260425T211916
CREATED:20240829T183559Z
LAST-MODIFIED:20240829T184702Z
UID:21600-1725994800-1726002000@fortuna-schlangen.de
SUMMARY:Trainer- und Betreuerversammlung im Sporthaus (Jugend) ! Ab 19 Uhr !
DESCRIPTION:Besprechung \, Planung von Heiko Biere ! \nSporthaus in Schlangen ab 19:00 Uhr !
URL:https://fortuna-schlangen.de/event/betreuer-und-trainerstab-sitzung-im-sporthaus-infoabend-ab-19-uhr/
LOCATION:Vereinsheim\, Badstraße\, Schlangen\, NRW\, 33189\, Deutschland
CATEGORIES:Fortbildung,Sonstige Veranstaltung,Trainerbesprechung,VEREINSHEIM
END:VEVENT
BEGIN:VEVENT
DTSTART;TZID=Europe/Berlin:20240914T103000
DTEND;TZID=Europe/Berlin:20240914T120000
DTSTAMP:20260425T211916
CREATED:20240807T164705Z
LAST-MODIFIED:20240807T164705Z
UID:21377-1726309800-1726315200@fortuna-schlangen.de
SUMMARY:Meisterschaft: E2-JSG  -  Post TSV Detmold 2 / M-Spiel ; 11 Uhr in Kohlstädt !
DESCRIPTION:Meisterschaftsspiel ; Anstoss um 11:00 Uhr in Kohlstädt !
URL:https://fortuna-schlangen.de/event/meisterschaft-e2-jsg-post-tsv-detmold-2-m-spiel-11-uhr-in-kohlstaedt/
LOCATION:Rasenplatz in Kohlstädt\, In der Rote\, Schlangen\, Nordrhein-Westfalen\, 33189
CATEGORIES:Meisterschaftsspiel,Sonstige Veranstaltung
END:VEVENT
BEGIN:VEVENT
DTSTART;TZID=Europe/Berlin:20240914T103000
DTEND;TZID=Europe/Berlin:20240914T121500
DTSTAMP:20260425T211916
CREATED:20240905T160449Z
LAST-MODIFIED:20240908T183107Z
UID:21623-1726309800-1726316100@fortuna-schlangen.de
SUMMARY:Trainingseinheit der C1-JSG ; Ab 10:30 Uhr ! !
DESCRIPTION:Training in Schlangen ! Ab 10:30 Uhr !
URL:https://fortuna-schlangen.de/event/testspiel-c1-jsg-gegner-offen-t-spiel-15-uhr/
LOCATION:Kunstrasenplatz Rennekamp\, Badstraße\, Schlangen\, NRW\, 33189\, Deutschland
CATEGORIES:Sonstige Veranstaltung,Training
END:VEVENT
BEGIN:VEVENT
DTSTART;TZID=Europe/Berlin:20240914T123000
DTEND;TZID=Europe/Berlin:20240914T141500
DTSTAMP:20260425T211916
CREATED:20240807T164252Z
LAST-MODIFIED:20240807T164252Z
UID:21375-1726317000-1726323300@fortuna-schlangen.de
SUMMARY:Meisterschaft: D1-JSG  -  JSG Augustdorf-Hörste / M-Spiel ; 13 Uhr !
DESCRIPTION:Meisterschaftsspiel ; Anstoss um 13:00 Uhr in Schlangen !
URL:https://fortuna-schlangen.de/event/meisterschaft-d1-jsg-jsg-augustdorf-hoerste-m-spiel-13-uhr/
LOCATION:Kunstrasenplatz Rennekamp\, Badstraße\, Schlangen\, NRW\, 33189\, Deutschland
CATEGORIES:Meisterschaftsspiel,Sonstige Veranstaltung
END:VEVENT
BEGIN:VEVENT
DTSTART;TZID=Europe/Berlin:20240914T123000
DTEND;TZID=Europe/Berlin:20240914T143000
DTSTAMP:20260425T211916
CREATED:20240807T165118Z
LAST-MODIFIED:20240807T165118Z
UID:21379-1726317000-1726324200@fortuna-schlangen.de
SUMMARY:Meisterschaft: C2-JSG  -  CSL Detmold 2 (9er) / M-Spiel ; 13 Uhr in Kohlstädt !
DESCRIPTION:Meisterschaftsspiel ; Anstoss um 13:00 Uhr in Kohlstädt !
URL:https://fortuna-schlangen.de/event/meisterschaft-c2-jsg-csl-detmold-2-9er-m-spiel-13-uhr-in-kohlstaedt/
LOCATION:Rasenplatz in Kohlstädt\, In der Rote\, Schlangen\, Nordrhein-Westfalen\, 33189
CATEGORIES:Meisterschaftsspiel,Sonstige Veranstaltung
END:VEVENT
BEGIN:VEVENT
DTSTART;TZID=Europe/Berlin:20240915T103000
DTEND;TZID=Europe/Berlin:20240915T130000
DTSTAMP:20260425T211916
CREATED:20240721T113232Z
LAST-MODIFIED:20240721T113232Z
UID:21241-1726396200-1726405200@fortuna-schlangen.de
SUMMARY:A-Jgd Bezirksliga: A1-JSG  -  Spvg Steinhagen / M-Spiel ; 11 Uhr !
DESCRIPTION:Meisterschaftsspiel der A1-JSG / Anstoss um 11:00 Uhr in Schlangen !
URL:https://fortuna-schlangen.de/event/a-jgd-bezirksliga-a1-jsg-spvg-steinhagen-m-spiel-11-uhr/
LOCATION:Kunstrasenplatz Rennekamp\, Badstraße\, Schlangen\, NRW\, 33189\, Deutschland
CATEGORIES:Meisterschaftsspiel,Sonstige Veranstaltung
END:VEVENT
BEGIN:VEVENT
DTSTART;TZID=Europe/Berlin:20240921T093000
DTEND;TZID=Europe/Berlin:20240921T111500
DTSTAMP:20260425T211916
CREATED:20240807T165443Z
LAST-MODIFIED:20240827T151934Z
UID:21381-1726911000-1726917300@fortuna-schlangen.de
SUMMARY:Meisterschaft: D2-JSG  -  CSL Detmold 2 / M-Spiel ; 10 Uhr !
DESCRIPTION:Meisterschaftsspiel ; Anstoss um 10:00 Uhr in Schlangen !
URL:https://fortuna-schlangen.de/event/meisterschaft-d2-jsg-csl-detmold-2-m-spiel-12-uhr/
LOCATION:Kunstrasenplatz Rennekamp\, Badstraße\, Schlangen\, NRW\, 33189\, Deutschland
CATEGORIES:Meisterschaftsspiel,Sonstige Veranstaltung
END:VEVENT
BEGIN:VEVENT
DTSTART;TZID=Europe/Berlin:20240921T113000
DTEND;TZID=Europe/Berlin:20240921T133000
DTSTAMP:20260425T211916
CREATED:20240917T130106Z
LAST-MODIFIED:20240917T130106Z
UID:21668-1726918200-1726925400@fortuna-schlangen.de
SUMMARY:Vorraussichtlich/Heimrechttausch: C1-JSG  -  TuS Eichholz-Remmighausen / M-Spiel ; 12 Uhr !
DESCRIPTION:Eventuell Heimrechttausch ! \nDann voraussichtlich 12:00 Uhr in Schlangen !
URL:https://fortuna-schlangen.de/event/vorraussichtlich-heimrechttausch-c1-jsg-tus-eichholz-remmighausen-m-spiel-12-uhr/
LOCATION:Kunstrasenplatz Rennekamp\, Badstraße\, Schlangen\, NRW\, 33189\, Deutschland
CATEGORIES:Meisterschaftsspiel,Sonstige Veranstaltung
END:VEVENT
BEGIN:VEVENT
DTSTART;TZID=Europe/Berlin:20240921T153000
DTEND;TZID=Europe/Berlin:20240921T180000
DTSTAMP:20260425T211916
CREATED:20240807T165742Z
LAST-MODIFIED:20240914T094618Z
UID:21383-1726932600-1726941600@fortuna-schlangen.de
SUMMARY:Meisterschaft: A2-JSG  -  JSG Kachtenhausen-Helpup / M-Spiel ; 16 Uhr !
DESCRIPTION:Meisterschaftsspiel ; Anstoss um 16:00 Uhr in Schlangen !
URL:https://fortuna-schlangen.de/event/meisterschaft-a2-jsg-jsg-kachtenhausen-helpup-m-spiel-16-uhr/
LOCATION:Kunstrasenplatz Rennekamp\, Badstraße\, Schlangen\, NRW\, 33189\, Deutschland
CATEGORIES:Meisterschaftsspiel,Sonstige Veranstaltung
END:VEVENT
BEGIN:VEVENT
DTSTART;TZID=Europe/Berlin:20240922T103000
DTEND;TZID=Europe/Berlin:20240922T124500
DTSTAMP:20260425T211916
CREATED:20240807T170051Z
LAST-MODIFIED:20240807T171222Z
UID:21385-1727001000-1727009100@fortuna-schlangen.de
SUMMARY:Meisterschaft: B1-JSG  -  JSG Kachtenhausen-Helpup 2 / M-Spiel ; 11 Uhr !
DESCRIPTION:Meisterschaftsspiel ; Anstoss um 11:00 Uhr in Schlangen !
URL:https://fortuna-schlangen.de/event/meisterschaft-b1-jsg-jsg-kachtenhausen-helpup-2-m-spiel-11-uhr-2/
LOCATION:Kunstrasenplatz Rennekamp\, Badstraße\, Schlangen\, NRW\, 33189\, Deutschland
CATEGORIES:Meisterschaftsspiel,Sonstige Veranstaltung
END:VEVENT
END:VCALENDAR