BEGIN:VCALENDAR
VERSION:2.0
PRODID:-//FC FORTUNA SCHLANGEN - ECPv6.15.20//NONSGML v1.0//EN
CALSCALE:GREGORIAN
METHOD:PUBLISH
X-ORIGINAL-URL:https://fortuna-schlangen.de
X-WR-CALDESC:Veranstaltungen für FC FORTUNA SCHLANGEN
REFRESH-INTERVAL;VALUE=DURATION:PT1H
X-Robots-Tag:noindex
X-PUBLISHED-TTL:PT1H
BEGIN:VTIMEZONE
TZID:Europe/Berlin
BEGIN:DAYLIGHT
TZOFFSETFROM:+0100
TZOFFSETTO:+0200
TZNAME:CEST
DTSTART:20230326T010000
END:DAYLIGHT
BEGIN:STANDARD
TZOFFSETFROM:+0200
TZOFFSETTO:+0100
TZNAME:CET
DTSTART:20231029T010000
END:STANDARD
BEGIN:DAYLIGHT
TZOFFSETFROM:+0100
TZOFFSETTO:+0200
TZNAME:CEST
DTSTART:20240331T010000
END:DAYLIGHT
BEGIN:STANDARD
TZOFFSETFROM:+0200
TZOFFSETTO:+0100
TZNAME:CET
DTSTART:20241027T010000
END:STANDARD
BEGIN:DAYLIGHT
TZOFFSETFROM:+0100
TZOFFSETTO:+0200
TZNAME:CEST
DTSTART:20250330T010000
END:DAYLIGHT
BEGIN:STANDARD
TZOFFSETFROM:+0200
TZOFFSETTO:+0100
TZNAME:CET
DTSTART:20251026T010000
END:STANDARD
END:VTIMEZONE
BEGIN:VEVENT
DTSTART;TZID=Europe/Berlin:20240802T180000
DTEND;TZID=Europe/Berlin:20240802T193000
DTSTAMP:20260425T195923
CREATED:20240731T161859Z
LAST-MODIFIED:20240731T161859Z
UID:21299-1722621600-1722627000@fortuna-schlangen.de
SUMMARY:Spielpläne Jugend / Besprechung im Sporthaus 18 Uhr !
DESCRIPTION:Termine und Anstosszeiten festlegen ! \n18:00 Uhr im Sporthaus in Schlangen !
URL:https://fortuna-schlangen.de/event/spielplaene-jugend-besprechung-im-sporthaus-18-uhr/
LOCATION:Vereinsheim\, Badstraße\, Schlangen\, NRW\, 33189\, Deutschland
CATEGORIES:Sonstige Veranstaltung,VEREINSHEIM
END:VEVENT
BEGIN:VEVENT
DTSTART;TZID=Europe/Berlin:20240803T103000
DTEND;TZID=Europe/Berlin:20240803T120000
DTSTAMP:20260425T195923
CREATED:20240725T180916Z
LAST-MODIFIED:20240725T180916Z
UID:21274-1722681000-1722686400@fortuna-schlangen.de
SUMMARY:Trainingseinheit der C1-JSG ! Beginn: 10:30 Uhr !
DESCRIPTION:Kompletter Platz ! Einheit in Schlangen von 10:30 Uhr – 12 Uhr !
URL:https://fortuna-schlangen.de/event/trainingseinheit-der-c1-jsg-beginn-1030-uhr/
LOCATION:Kunstrasenplatz Rennekamp\, Badstraße\, Schlangen\, NRW\, 33189\, Deutschland
CATEGORIES:Sonstige Veranstaltung,Trainerbesprechung,Training
END:VEVENT
BEGIN:VEVENT
DTSTART;TZID=Europe/Berlin:20240803T123000
DTEND;TZID=Europe/Berlin:20240803T150000
DTSTAMP:20260425T195923
CREATED:20240527T164737Z
LAST-MODIFIED:20240528T183758Z
UID:20820-1722688200-1722697200@fortuna-schlangen.de
SUMMARY:2. Mannschaft Fortuna  -  FC Marl 3 / T-Spiel ; 13 Uhr !
DESCRIPTION:Testspiel/Meisterschaftsspiel ; Anstoss um 13:00 Uhr in Schlangen !
URL:https://fortuna-schlangen.de/event/3-8-2-mannschaft-gegner-offen-t-spiel-13-uhr/
LOCATION:Kunstrasenplatz Rennekamp\, Badstraße\, Schlangen\, NRW\, 33189\, Deutschland
CATEGORIES:Freundschaftsspiel,Sonstige Veranstaltung,Training
END:VEVENT
BEGIN:VEVENT
DTSTART;TZID=Europe/Berlin:20240804T120000
DTEND;TZID=Europe/Berlin:20240804T143000
DTSTAMP:20260425T195923
CREATED:20240621T155414Z
LAST-MODIFIED:20240731T162530Z
UID:20977-1722772800-1722781800@fortuna-schlangen.de
SUMMARY:A2-JSG  -  SV Büren 21 / T-Spiel ; 12:30 Uhr !
DESCRIPTION:Testspiel/Freundschaftsspiel ; Anstoss um 12:30 Uhr in Schlangen !
URL:https://fortuna-schlangen.de/event/a2-jsg-jsg-steinhausen-t-spiel-1230-uhr/
LOCATION:Kunstrasenplatz Rennekamp\, Badstraße\, Schlangen\, NRW\, 33189\, Deutschland
CATEGORIES:Freundschaftsspiel,Sonstige Veranstaltung,Training
END:VEVENT
BEGIN:VEVENT
DTSTART;TZID=Europe/Berlin:20240804T143000
DTEND;TZID=Europe/Berlin:20240804T170000
DTSTAMP:20260425T195923
CREATED:20240522T100407Z
LAST-MODIFIED:20240522T100407Z
UID:20788-1722781800-1722790800@fortuna-schlangen.de
SUMMARY:1. Mannschaft Fortuna  -  SF DJK Mastbruch 2 / T-Spiel ; 15 Uhr !
DESCRIPTION:Testspiel/Freundschaftsspiel ; Anstoss um 15:00 Uhr in Schlangen !
URL:https://fortuna-schlangen.de/event/1-mannschaft-fortuna-sf-djk-mastbruch-2-t-spiel-15-uhr/
LOCATION:Kunstrasenplatz Rennekamp\, Badstraße\, Schlangen\, NRW\, 33189\, Deutschland
CATEGORIES:Freundschaftsspiel,Sonstige Veranstaltung,Training
END:VEVENT
BEGIN:VEVENT
DTSTART;TZID=Europe/Berlin:20240805T170000
DTEND;TZID=Europe/Berlin:20240805T183000
DTSTAMP:20260425T195923
CREATED:20240714T151243Z
LAST-MODIFIED:20240714T151243Z
UID:21151-1722877200-1722882600@fortuna-schlangen.de
SUMMARY:D2/D3-JSG Trainingsauftakt ab 17 Uhr !
DESCRIPTION:1. Einheit in der neuen Saison ! \nBeginn: 17:00 Uhr !
URL:https://fortuna-schlangen.de/event/d2-d3-jsg-trainingsauftakt-ab-17-uhr/
LOCATION:Rasenplatz Rennekamp\, Badstraße\, Schlangen\, NRW\, 33189\, Deutschland
CATEGORIES:Sonstige Veranstaltung,Trainerbesprechung,Training
END:VEVENT
BEGIN:VEVENT
DTSTART;TZID=Europe/Berlin:20240805T180000
DTEND;TZID=Europe/Berlin:20240805T193000
DTSTAMP:20260425T195923
CREATED:20240714T151607Z
LAST-MODIFIED:20240714T151607Z
UID:21154-1722880800-1722886200@fortuna-schlangen.de
SUMMARY:B1/B2-JSG Trainingsauftakt ( 1. Einheit zusammen ) ab 18 Uhr !
DESCRIPTION:1. Einheit in der neuen Saison ! \nBeginn: 18:00 Uhr in Kohlstädt !
URL:https://fortuna-schlangen.de/event/b1-b2-jsg-trainingsauftakt-1-einheit-zusammen-ab-18-uhr/
LOCATION:Rasenplatz in Kohlstädt\, In der Rote\, Schlangen\, Nordrhein-Westfalen\, 33189
CATEGORIES:Sonstige Veranstaltung,Trainerbesprechung,Training
END:VEVENT
BEGIN:VEVENT
DTSTART;TZID=Europe/Berlin:20240806T180000
DTEND;TZID=Europe/Berlin:20240806T193000
DTSTAMP:20260425T195923
CREATED:20240714T151914Z
LAST-MODIFIED:20240714T151914Z
UID:21157-1722967200-1722972600@fortuna-schlangen.de
SUMMARY:B1-JSG Trainingsauftakt in Schlangen ab 18 Uhr !
DESCRIPTION:Einheit auf dem Rennekamp\, 18:00 Uhr !
URL:https://fortuna-schlangen.de/event/b1-jsg-trainingsauftakt-in-schlangen-ab-18-uhr/
LOCATION:Kunstrasen – Platzhälfte Nord\, Badstraße\, Schlangen\, NRW\, 33189\, Deutschland
CATEGORIES:Sonstige Veranstaltung,Trainerbesprechung,Training
END:VEVENT
BEGIN:VEVENT
DTSTART;TZID=Europe/Berlin:20240808T170000
DTEND;TZID=Europe/Berlin:20240808T183000
DTSTAMP:20260425T195923
CREATED:20240714T153929Z
LAST-MODIFIED:20240714T180202Z
UID:21165-1723136400-1723141800@fortuna-schlangen.de
SUMMARY:D1-JSG Trainingsauftakt ! Ab 17 Uhr !
DESCRIPTION:1. Einheit in der neuen Saison\, in Schlangen ! \nBeginn: 17:00 Uhr !
URL:https://fortuna-schlangen.de/event/d1-jsg-schon-im-training-durchgehend-in-den-ferien-ab-17-uhr/
LOCATION:Kunstrasen – Platzhälfte Nord\, Badstraße\, Schlangen\, NRW\, 33189\, Deutschland
CATEGORIES:Sonstige Veranstaltung,Trainerbesprechung,Training
END:VEVENT
BEGIN:VEVENT
DTSTART;TZID=Europe/Berlin:20240810T100000
DTEND;TZID=Europe/Berlin:20240810T123000
DTSTAMP:20260425T195923
CREATED:20240318T155849Z
LAST-MODIFIED:20240801T125759Z
UID:20537-1723284000-1723293000@fortuna-schlangen.de
SUMMARY:C1-JSG  -  C2-JSG / T-Spiel o. Training ; 10:30 Uhr !
DESCRIPTION:Testspiel/Freundschaftsspiel ; Anstoss um 10:30 Uhr in Schlangen !
URL:https://fortuna-schlangen.de/event/vorbereitung-c1-jsg-gegner-offen-t-spiel-15-uhr/
LOCATION:Kunstrasenplatz Rennekamp\, Badstraße\, Schlangen\, NRW\, 33189\, Deutschland
CATEGORIES:Freundschaftsspiel,Sonstige Veranstaltung,Trainerbesprechung,Training
END:VEVENT
BEGIN:VEVENT
DTSTART;TZID=Europe/Berlin:20240810T103000
DTEND;TZID=Europe/Berlin:20240810T121500
DTSTAMP:20260425T195923
CREATED:20240805T082722Z
LAST-MODIFIED:20240805T082722Z
UID:21313-1723285800-1723292100@fortuna-schlangen.de
SUMMARY:D1-JSG  -  SC Borchen / T-Spiel ; 11 Uhr
DESCRIPTION:Testspiel/Freundschaftsspiel ; Anstoss um 11:00 Uhr in Oesterholz !
URL:https://fortuna-schlangen.de/event/d1-jsg-sc-borchen-t-spiel-11-uhr/
LOCATION:Rasenplatz in Oesterholz\, Am Paradies\, Schlangen\, Nordrhein-Westfalen\, 33189\, Deutschland
CATEGORIES:Freundschaftsspiel,Sonstige Veranstaltung,Trainerbesprechung,Training
END:VEVENT
BEGIN:VEVENT
DTSTART;TZID=Europe/Berlin:20240810T120000
DTEND;TZID=Europe/Berlin:20240810T141500
DTSTAMP:20260425T195923
CREATED:20240701T121900Z
LAST-MODIFIED:20240726T170102Z
UID:21041-1723291200-1723299300@fortuna-schlangen.de
SUMMARY:B1-JSG  -  Delbrücker SC 2 / T-Spiel ; 12:30 Uhr !
DESCRIPTION:Testspiel/Freundschaftsspiel ; Anstoss um 12:30 Uhr in Oesterholz !
URL:https://fortuna-schlangen.de/event/b1-jsg-delbruecker-sc-2-t-spiel-1230-uhr/
LOCATION:Rasenplatz in Oesterholz\, Am Paradies\, Schlangen\, Nordrhein-Westfalen\, 33189\, Deutschland
CATEGORIES:Freundschaftsspiel,Sonstige Veranstaltung,Training
END:VEVENT
BEGIN:VEVENT
DTSTART;TZID=Europe/Berlin:20240810T153000
DTEND;TZID=Europe/Berlin:20240810T180000
DTSTAMP:20260425T195923
CREATED:20240726T170541Z
LAST-MODIFIED:20240726T170541Z
UID:21283-1723303800-1723312800@fortuna-schlangen.de
SUMMARY:A2-JSG  -  TuRa Elsen / T-Spiel ; 16 Uhr !
DESCRIPTION:Testspiel/Freundschaftsspiel ; Anstoss um 16:00 Uhr in Oesterholz !
URL:https://fortuna-schlangen.de/event/a2-jsg-tura-elsen-t-spiel-16-uhr/
LOCATION:Rasenplatz in Oesterholz\, Am Paradies\, Schlangen\, Nordrhein-Westfalen\, 33189\, Deutschland
CATEGORIES:Freundschaftsspiel,Sonstige Veranstaltung,Trainerbesprechung,Training
END:VEVENT
BEGIN:VEVENT
DTSTART;TZID=Europe/Berlin:20240811T103000
DTEND;TZID=Europe/Berlin:20240811T130000
DTSTAMP:20260425T195923
CREATED:20240726T170832Z
LAST-MODIFIED:20240806T074329Z
UID:21287-1723372200-1723381200@fortuna-schlangen.de
SUMMARY:A1-JSG  -  Westfalia Soest U19 / T-Spiel ; 11 Uhr !
DESCRIPTION:Testspiel/Freundschaftsspiel ; Anstoss um 11:00 Uhr in Oesterholz !
URL:https://fortuna-schlangen.de/event/a1-jsg-jsg-oerlinghausen-lipperreihe-t-spiel-11-uhr/
LOCATION:Rasenplatz in Oesterholz\, Am Paradies\, Schlangen\, Nordrhein-Westfalen\, 33189\, Deutschland
CATEGORIES:Freundschaftsspiel,Sonstige Veranstaltung,Trainerbesprechung,Training
END:VEVENT
BEGIN:VEVENT
DTSTART;TZID=Europe/Berlin:20240811T143000
DTEND;TZID=Europe/Berlin:20240811T170000
DTSTAMP:20260425T195923
CREATED:20240721T110142Z
LAST-MODIFIED:20240721T110249Z
UID:21221-1723386600-1723395600@fortuna-schlangen.de
SUMMARY:A-Liga: Fortuna 1  -  SG Brakelsiek-Wöbbel / M-Spiel ; 15 Uhr !
DESCRIPTION:Meisterschaftsspiel der 1ten / Anstoss um 15:00 Uhr in Schlangen !
URL:https://fortuna-schlangen.de/event/a-liga-fortuna-1-sg-brakelsiek-woebbel-m-spiel-15-uhr/
LOCATION:Kunstrasenplatz Rennekamp\, Badstraße\, Schlangen\, NRW\, 33189\, Deutschland
CATEGORIES:Meisterschaftsspiel,Sonstige Veranstaltung
END:VEVENT
BEGIN:VEVENT
DTSTART;TZID=Europe/Berlin:20240812T093000
DTEND;TZID=Europe/Berlin:20240812T150000
DTSTAMP:20260425T195923
CREATED:20240702T162821Z
LAST-MODIFIED:20240702T162821Z
UID:21051-1723455000-1723474800@fortuna-schlangen.de
SUMMARY:Fußballschule Peter Hobday > Trainingscamp ! Von 9:30 - 15:00 Uhr !
DESCRIPTION:Klein bis Groß ! 6 Jahre bis 14 Jahre ! \nIn den Sommerferien in Schlangen !
URL:https://fortuna-schlangen.de/event/fussballschule-peter-hobday-trainingscamp-von-930-1500-uhr/
LOCATION:Gesamtes Fortuna Sportgelände\, Badstraße\, Schlangen\, 33189\, Deutschland
CATEGORIES:Fussballcamp,Sonstige Veranstaltung,Training
END:VEVENT
BEGIN:VEVENT
DTSTART;TZID=Europe/Berlin:20240813T093000
DTEND;TZID=Europe/Berlin:20240813T150000
DTSTAMP:20260425T195923
CREATED:20240702T163142Z
LAST-MODIFIED:20240702T163142Z
UID:21054-1723541400-1723561200@fortuna-schlangen.de
SUMMARY:Fußballschule Peter Hobday > Trainingscamp ! Von 9:30 - 15:00 Uhr !
DESCRIPTION:Klein bis Groß ! 6 Jahre bis 14 Jahre ! \nIn den Sommerferien in Schlangen !
URL:https://fortuna-schlangen.de/event/fussballschule-peter-hobday-trainingscamp-von-930-1500-uhr-2/
LOCATION:Gesamtes Fortuna Sportgelände\, Badstraße\, Schlangen\, 33189\, Deutschland
CATEGORIES:Fussballcamp,Sonstige Veranstaltung,Training
END:VEVENT
BEGIN:VEVENT
DTSTART;TZID=Europe/Berlin:20240814T093000
DTEND;TZID=Europe/Berlin:20240814T150000
DTSTAMP:20260425T195923
CREATED:20240702T163440Z
LAST-MODIFIED:20240702T163440Z
UID:21057-1723627800-1723647600@fortuna-schlangen.de
SUMMARY:Fußballschule Peter Hobday > Trainingscamp ! Von 9:30 - 15:00 Uhr !
DESCRIPTION:Klein bis Groß ! 6 Jahre bis 14 Jahre ! \nIn den Sommerferien in Schlangen !
URL:https://fortuna-schlangen.de/event/fussballschule-peter-hobday-trainingscamp-von-930-1500-uhr-3/
LOCATION:Gesamtes Fortuna Sportgelände\, Badstraße\, Schlangen\, 33189\, Deutschland
CATEGORIES:Fussballcamp,Sonstige Veranstaltung,Training
END:VEVENT
BEGIN:VEVENT
DTSTART;TZID=Europe/Berlin:20240814T182000
DTEND;TZID=Europe/Berlin:20240814T200000
DTSTAMP:20260425T195923
CREATED:20240808T150556Z
LAST-MODIFIED:20240808T150556Z
UID:21410-1723659600-1723665600@fortuna-schlangen.de
SUMMARY:C2-JSG  -  JSG Altenbeken / T-Spiel ; 18:30 Uhr !
DESCRIPTION:Testspiel/Freundschaftsspiel ; Anstoss um 18:30 Uhr in Schlangen !
URL:https://fortuna-schlangen.de/event/c2-jsg-jsg-altenbeken-t-spiel-1830-uhr/
LOCATION:Kunstrasenplatz Rennekamp\, Badstraße\, Schlangen\, NRW\, 33189\, Deutschland
CATEGORIES:Freundschaftsspiel,Sonstige Veranstaltung,Trainerbesprechung,Training
END:VEVENT
BEGIN:VEVENT
DTSTART;TZID=Europe/Berlin:20240815T093000
DTEND;TZID=Europe/Berlin:20240815T150000
DTSTAMP:20260425T195923
CREATED:20240702T163803Z
LAST-MODIFIED:20240702T163803Z
UID:21060-1723714200-1723734000@fortuna-schlangen.de
SUMMARY:Fußballschule Peter Hobday > Trainingscamp ! Von 9:30 - 15:00 Uhr !
DESCRIPTION:Klein bis Groß ! 6 Jahre bis 14 Jahre ! \nIn den Sommerferien in Schlangen ! \n  \n  \n  \n  \n  \n 
URL:https://fortuna-schlangen.de/event/fussballschule-peter-hobday-trainingscamp-von-930-1500-uhr-4/
LOCATION:Gesamtes Fortuna Sportgelände\, Badstraße\, Schlangen\, 33189\, Deutschland
CATEGORIES:Fussballcamp,Sonstige Veranstaltung,Training
END:VEVENT
BEGIN:VEVENT
DTSTART;TZID=Europe/Berlin:20240816T093000
DTEND;TZID=Europe/Berlin:20240816T150000
DTSTAMP:20260425T195923
CREATED:20240702T164034Z
LAST-MODIFIED:20240702T164034Z
UID:21063-1723800600-1723820400@fortuna-schlangen.de
SUMMARY:Fußballschule Peter Hobday > Trainingscamp ! Von 9:30 Uhr - 15:00 Uhr !
DESCRIPTION:Klein bis Groß ! 6 Jahre bis 14 Jahre ! \nIn den Sommerferien in Schlangen !
URL:https://fortuna-schlangen.de/event/fussballschule-peter-hobday-trainingscamp-von-930-uhr-1500-uhr/
LOCATION:Gesamtes Fortuna Sportgelände\, Badstraße\, Schlangen\, 33189\, Deutschland
CATEGORIES:Fussballcamp,Sonstige Veranstaltung,Training
END:VEVENT
BEGIN:VEVENT
DTSTART;TZID=Europe/Berlin:20240817T103000
DTEND;TZID=Europe/Berlin:20240817T121000
DTSTAMP:20260425T195923
CREATED:20240706T074432Z
LAST-MODIFIED:20240706T074432Z
UID:21090-1723890600-1723896600@fortuna-schlangen.de
SUMMARY:D1-JSG  -  JSG Hiddesen-Heidenoldendorf / T-Spiel ; 11 Uhr !
DESCRIPTION:Testspiel/Freundschaftsspiel ; Anstoss um 11:00 Uhr in Schlangen !
URL:https://fortuna-schlangen.de/event/d1-jsg-jsg-hiddesen-heidenoldendorf-t-spiel-11-uhr/
LOCATION:Kunstrasenplatz Rennekamp\, Badstraße\, Schlangen\, NRW\, 33189\, Deutschland
CATEGORIES:Freundschaftsspiel,Sonstige Veranstaltung,Training
END:VEVENT
BEGIN:VEVENT
DTSTART;TZID=Europe/Berlin:20240817T121000
DTEND;TZID=Europe/Berlin:20240817T141500
DTSTAMP:20260425T195923
CREATED:20240612T080006Z
LAST-MODIFIED:20240711T142947Z
UID:20936-1723896600-1723904100@fortuna-schlangen.de
SUMMARY:B1-JSG  -  JSG Oerlinghausen-Lipperreihe / T-Spiel ; 12:30 Uhr !
DESCRIPTION:Testspiel/Freundschaftsspiel ; Anstoss um 12:30 Uhr in Schlangen !
URL:https://fortuna-schlangen.de/event/b1-jsg-tsv-oerlinghausen-t-spiel-1230-uhr/
LOCATION:Kunstrasenplatz Rennekamp\, Badstraße\, Schlangen\, NRW\, 33189\, Deutschland
CATEGORIES:Freundschaftsspiel,Sonstige Veranstaltung,Training
END:VEVENT
BEGIN:VEVENT
DTSTART;TZID=Europe/Berlin:20240817T143000
DTEND;TZID=Europe/Berlin:20240817T163000
DTSTAMP:20260425T195923
CREATED:20240318T160134Z
LAST-MODIFIED:20240702T164223Z
UID:20540-1723905000-1723912200@fortuna-schlangen.de
SUMMARY:C1-JSG  -  SC Borchen / T-Spiel ; 15 Uhr !
DESCRIPTION:Testspiel/Freundschaftsspiel ; Anstoss um 15:00 Uhr in Schlangen !
URL:https://fortuna-schlangen.de/event/vorbereitung-c1-jsg-gegner-offen-t-spiel-15-uhr-2/
LOCATION:Kunstrasenplatz Rennekamp\, Badstraße\, Schlangen\, NRW\, 33189\, Deutschland
CATEGORIES:Freundschaftsspiel,Sonstige Veranstaltung,Training
END:VEVENT
BEGIN:VEVENT
DTSTART;TZID=Europe/Berlin:20240817T170000
DTEND;TZID=Europe/Berlin:20240817T193000
DTSTAMP:20260425T195923
CREATED:20240621T160057Z
LAST-MODIFIED:20240621T160057Z
UID:20979-1723914000-1723923000@fortuna-schlangen.de
SUMMARY:A2-JSG  -  SV Sande / T-Spiel ; 17:30 Uhr !
DESCRIPTION:Testspiel/Freundschaftsspiel ; Anstoss um 17:30 Uhr in Schlangen !
URL:https://fortuna-schlangen.de/event/a2-jsg-sv-sande-t-spiel-1730-uhr/
LOCATION:Kunstrasenplatz Rennekamp\, Badstraße\, Schlangen\, NRW\, 33189\, Deutschland
CATEGORIES:Freundschaftsspiel,Sonstige Veranstaltung,Training
END:VEVENT
BEGIN:VEVENT
DTSTART;TZID=Europe/Berlin:20240818T103000
DTEND;TZID=Europe/Berlin:20240818T130000
DTSTAMP:20260425T195923
CREATED:20240718T194904Z
LAST-MODIFIED:20240719T141033Z
UID:21211-1723977000-1723986000@fortuna-schlangen.de
SUMMARY:A1-JSG  -  FSC Rheda / T-Spiel ; 11 Uhr in Geseke (Trainingslager) !
DESCRIPTION:Testspiel/Freundschaftsspiel ; Anstoss um 11:00 Uhr in Geseke !
URL:https://fortuna-schlangen.de/event/a1-jsg-fsc-rheda-t-spiel-1330-uhr-in-geseke-trainingslager/
LOCATION:Auswärtsspiel
CATEGORIES:Freundschaftsspiel,Sonstige Veranstaltung,Trainerbesprechung,Training
END:VEVENT
BEGIN:VEVENT
DTSTART;TZID=Europe/Berlin:20240818T130000
DTEND;TZID=Europe/Berlin:20240818T150000
DTSTAMP:20260425T195923
CREATED:20240726T161824Z
LAST-MODIFIED:20240818T074252Z
UID:21278-1723986000-1723993200@fortuna-schlangen.de
SUMMARY:B1-JSG  -  Kein Spiel ! Gegner abgesagt ! Dafür Training der B ! 13 Uhr !
DESCRIPTION:Trainingseinheit der B-Jugend ; Training um 13:00 Uhr in Schlangen !
URL:https://fortuna-schlangen.de/event/b1-jsg-tus-brake-t-spiel-13-uhr/
LOCATION:Kunstrasenplatz Rennekamp\, Badstraße\, Schlangen\, NRW\, 33189\, Deutschland
CATEGORIES:Sonstige Veranstaltung,Trainerbesprechung,Training
END:VEVENT
BEGIN:VEVENT
DTSTART;TZID=Europe/Berlin:20240819T174500
DTEND;TZID=Europe/Berlin:20240819T190000
DTSTAMP:20260425T195923
CREATED:20240714T181817Z
LAST-MODIFIED:20240714T181929Z
UID:21183-1724089500-1724094000@fortuna-schlangen.de
SUMMARY:E1-JSG Trainingsauftakt ! Ab 17:45 Uhr !
DESCRIPTION:1. Einheit in der neuen Saison ! \nBeginn um 17:45 Uhr \, in Schlangen oder Kohlstädt !
URL:https://fortuna-schlangen.de/event/e1-jsg-trainingsauftakt-ab-1745-uhr/
LOCATION:Offen\, Offen\, Gemeinde Schlangen
CATEGORIES:Sonstige Veranstaltung,Trainerbesprechung,Training
END:VEVENT
BEGIN:VEVENT
DTSTART;TZID=Europe/Berlin:20240820T164500
DTEND;TZID=Europe/Berlin:20240820T183000
DTSTAMP:20260425T195923
CREATED:20240707T083553Z
LAST-MODIFIED:20240819T124543Z
UID:21094-1724172300-1724178600@fortuna-schlangen.de
SUMMARY:D1-JSG  -  SV Heide Paderborn 2 / T-Spiel ; 17:15 Uhr !
DESCRIPTION:Testspiel/Freundschaftsspiele ; Anstoss um 17:15 Uhr in Schlangen !
URL:https://fortuna-schlangen.de/event/d1-jsg-sv-heide-paderborn-2-t-spiel-1715-uhr/
LOCATION:Kunstrasenplatz Rennekamp\, Badstraße\, Schlangen\, NRW\, 33189\, Deutschland
CATEGORIES:Freundschaftsspiel,Sonstige Veranstaltung,Training
END:VEVENT
BEGIN:VEVENT
DTSTART;TZID=Europe/Berlin:20240820T193000
DTEND;TZID=Europe/Berlin:20240820T220000
DTSTAMP:20260425T195923
CREATED:20240726T171712Z
LAST-MODIFIED:20240726T171712Z
UID:21291-1724182200-1724191200@fortuna-schlangen.de
SUMMARY:Herren-1. Pokalrunde : SG Hiddesen-Heidenoldendorf  -  Fortuna 1 / P-Spiel in Hid.-Heid. ; 19:30 Uhr !
DESCRIPTION:Pokalspiel in Detmold beim SG Hiddesen-Heidenoldendorf ! Anstoss: 19:30 Uhr !
URL:https://fortuna-schlangen.de/event/herren-1-pokalrunde-sg-hiddesen-heidenoldendorf-fortuna-1-p-spiel-in-hid-heid-1930-uhr/
LOCATION:Auswärtsspiel
CATEGORIES:Pokalspiel,Sonstige Veranstaltung
END:VEVENT
END:VCALENDAR