BEGIN:VCALENDAR
VERSION:2.0
PRODID:-//FC FORTUNA SCHLANGEN - ECPv6.15.20//NONSGML v1.0//EN
CALSCALE:GREGORIAN
METHOD:PUBLISH
X-WR-CALNAME:FC FORTUNA SCHLANGEN
X-ORIGINAL-URL:https://fortuna-schlangen.de
X-WR-CALDESC:Veranstaltungen für FC FORTUNA SCHLANGEN
REFRESH-INTERVAL;VALUE=DURATION:PT1H
X-Robots-Tag:noindex
X-PUBLISHED-TTL:PT1H
BEGIN:VTIMEZONE
TZID:Europe/Berlin
BEGIN:DAYLIGHT
TZOFFSETFROM:+0100
TZOFFSETTO:+0200
TZNAME:CEST
DTSTART:20230326T010000
END:DAYLIGHT
BEGIN:STANDARD
TZOFFSETFROM:+0200
TZOFFSETTO:+0100
TZNAME:CET
DTSTART:20231029T010000
END:STANDARD
BEGIN:DAYLIGHT
TZOFFSETFROM:+0100
TZOFFSETTO:+0200
TZNAME:CEST
DTSTART:20240331T010000
END:DAYLIGHT
BEGIN:STANDARD
TZOFFSETFROM:+0200
TZOFFSETTO:+0100
TZNAME:CET
DTSTART:20241027T010000
END:STANDARD
BEGIN:DAYLIGHT
TZOFFSETFROM:+0100
TZOFFSETTO:+0200
TZNAME:CEST
DTSTART:20250330T010000
END:DAYLIGHT
BEGIN:STANDARD
TZOFFSETFROM:+0200
TZOFFSETTO:+0100
TZNAME:CET
DTSTART:20251026T010000
END:STANDARD
END:VTIMEZONE
BEGIN:VEVENT
DTSTART;TZID=Europe/Berlin:20240601T150000
DTEND;TZID=Europe/Berlin:20240601T235900
DTSTAMP:20260425T151125
CREATED:20240525T213545Z
LAST-MODIFIED:20240525T213545Z
UID:20804-1717254000-1717286340@fortuna-schlangen.de
SUMMARY:VfL Handballwoche Backstage Band
DESCRIPTION:VfL Handballwoche Backstage Band
URL:https://fortuna-schlangen.de/event/vfl-handballwoche-backstage-band/
LOCATION:Vereinsheim\, Badstraße\, Schlangen\, NRW\, 33189\, Deutschland
CATEGORIES:Sonstige Veranstaltung
END:VEVENT
BEGIN:VEVENT
DTSTART;TZID=Europe/Berlin:20240604T173000
DTEND;TZID=Europe/Berlin:20240604T190000
DTSTAMP:20260425T151125
CREATED:20240318T153909Z
LAST-MODIFIED:20240318T153909Z
UID:20521-1717522200-1717527600@fortuna-schlangen.de
SUMMARY:Perspektivtraining der neuen C1-JSG / Beginn: 17:30 Uhr !
DESCRIPTION:Trainer Mike Klöpping \, mit Sichtungstraining !
URL:https://fortuna-schlangen.de/event/perspektivtraining-der-neuen-c1-jsg-beginn-1730-uhr/
LOCATION:Kunstrasen – Platzhälfte Nord\, Badstraße\, Schlangen\, NRW\, 33189\, Deutschland
CATEGORIES:Fortbildung,Sonstige Veranstaltung,Trainerbesprechung,Training
END:VEVENT
BEGIN:VEVENT
DTSTART;TZID=Europe/Berlin:20240604T190000
DTEND;TZID=Europe/Berlin:20240604T203000
DTSTAMP:20260425T151125
CREATED:20240603T092326Z
LAST-MODIFIED:20240603T092525Z
UID:20859-1717527600-1717533000@fortuna-schlangen.de
SUMMARY:Ein Kennlerntraining \, A2-JSG mit dem neuen Trainer ab 19 Uhr !
DESCRIPTION:Eine 1. Einheit mit der neuen A2-JSG in Schlangen ab 19:00 Uhr !
URL:https://fortuna-schlangen.de/event/ein-kennkerntraining-a2-jsg-mit-neuen-trainer-ab-19-uhr/
LOCATION:Kunstrasenplatz Rennekamp\, Badstraße\, Schlangen\, NRW\, 33189\, Deutschland
CATEGORIES:Mannschaftsabend,Sonstige Veranstaltung,Training
END:VEVENT
BEGIN:VEVENT
DTSTART;TZID=Europe/Berlin:20240606T173000
DTEND;TZID=Europe/Berlin:20240606T190000
DTSTAMP:20260425T151125
CREATED:20240318T154259Z
LAST-MODIFIED:20240318T154259Z
UID:20523-1717695000-1717700400@fortuna-schlangen.de
SUMMARY:Perspektivtraining der neuen C1-JSG / Beginn: 17:30 Uhr !
DESCRIPTION:Trainer Mike Klöpping \, mit Sichtungstraining !
URL:https://fortuna-schlangen.de/event/perspektivtraining-der-neuen-c1-jsg-beginn-1730-uhr-2/
LOCATION:Kunstrasen – Platzhälfte Nord\, Badstraße\, Schlangen\, NRW\, 33189\, Deutschland
CATEGORIES:Fortbildung,Sonstige Veranstaltung,Trainerbesprechung,Training
END:VEVENT
BEGIN:VEVENT
DTSTART;TZID=Europe/Berlin:20240607T170000
DTEND;TZID=Europe/Berlin:20240607T235900
DTSTAMP:20260425T151125
CREATED:20240523T183716Z
LAST-MODIFIED:20240523T183716Z
UID:20792-1717779600-1717804740@fortuna-schlangen.de
SUMMARY:D1 Mannschaftsabend ab 17 Uhr
DESCRIPTION:D1 Mannschaftsabend ab 17 Uhr
URL:https://fortuna-schlangen.de/event/d1-mannschaftsabend-ab-17-uhr/
LOCATION:Vereinsheim Terrasse
CATEGORIES:Mannschaftsabend,Vereinsheim Terrasse
END:VEVENT
BEGIN:VEVENT
DTSTART;TZID=Europe/Berlin:20240608T133000
DTEND;TZID=Europe/Berlin:20240608T150000
DTSTAMP:20260425T151125
CREATED:20240214T121002Z
LAST-MODIFIED:20240217T114552Z
UID:20290-1717853400-1717858800@fortuna-schlangen.de
SUMMARY:Oesterholz: E3-JSG  -  Blomberger SV 2 / M-Spiel ; 14 Uhr !
DESCRIPTION:Meisterschaftsspiel ; Anstoss um 14:00 Uhr in Oesterholz !
URL:https://fortuna-schlangen.de/event/kohlstaedt-e3-jsg-blomberger-sv-2-m-spiel-14-uhr/
LOCATION:Rasenplatz in Oesterholz\, Am Paradies\, Schlangen\, Nordrhein-Westfalen\, 33189\, Deutschland
CATEGORIES:Meisterschaftsspiel,Sonstige Veranstaltung
END:VEVENT
BEGIN:VEVENT
DTSTART;TZID=Europe/Berlin:20240608T150000
DTEND;TZID=Europe/Berlin:20240608T200000
DTSTAMP:20260425T151125
CREATED:20240527T151145Z
LAST-MODIFIED:20240531T074809Z
UID:20818-1717858800-1717876800@fortuna-schlangen.de
SUMMARY:D2-Meisterfeier und Mannschaftsabend ab 16 Uhr
DESCRIPTION:D2-Meisterfeier und Mannschaftsabend ab 16 Uhr
URL:https://fortuna-schlangen.de/event/d2-meisterfeier-und-mannschaftsabend-ab-16-uhr/
LOCATION:Vereinsheim Terrasse
CATEGORIES:Mannschaftsabend,Mannschaftsnachmittag
END:VEVENT
BEGIN:VEVENT
DTSTART;TZID=Europe/Berlin:20240608T210000
DTEND;TZID=Europe/Berlin:20240608T235900
DTSTAMP:20260425T151125
CREATED:20240531T075031Z
LAST-MODIFIED:20240531T075031Z
UID:20857-1717880400-1717891140@fortuna-schlangen.de
SUMMARY:A1 Mannschaftsabend ab 21 Uhr
DESCRIPTION:A1 Mannschaftsabend ab 21 Uhr
URL:https://fortuna-schlangen.de/event/a1-mannschaftsabend-ab-21-uhr/
LOCATION:Vereinsheim und Terrasse
CATEGORIES:Mannschaftsabend,Vereinsheim Terrasse
END:VEVENT
BEGIN:VEVENT
DTSTART;TZID=Europe/Berlin:20240609T100000
DTEND;TZID=Europe/Berlin:20240609T160000
DTSTAMP:20260425T151125
CREATED:20231212T162951Z
LAST-MODIFIED:20240415T062708Z
UID:19763-1717927200-1717948800@fortuna-schlangen.de
SUMMARY:VfL Schlangen ; VfL Tag /Leichtathletik und mehr ! 11 - 16 Uhr !
DESCRIPTION:Gesamtverein VfL Schlangen ; 11:00 Uhr bis 16:00 Uhr !
URL:https://fortuna-schlangen.de/event/vfl-schlangen-vfl-tag-leichtathletik-und-mehr-11-16-uhr/
LOCATION:Kunstrasenplatz Rennekamp\, Badstraße\, Schlangen\, NRW\, 33189\, Deutschland
CATEGORIES:Sonstige Veranstaltung,Training,Turnier
END:VEVENT
BEGIN:VEVENT
DTSTART;TZID=Europe/Berlin:20240609T160000
DTEND;TZID=Europe/Berlin:20240609T183000
DTSTAMP:20260425T151125
CREATED:20240415T062522Z
LAST-MODIFIED:20240415T062522Z
UID:20676-1717948800-1717957800@fortuna-schlangen.de
SUMMARY:A1-JSG  - SV Brilon / T-Spiel ; 16:30 Uhr !
DESCRIPTION:Testspiel/Freundschaftsspiel ; Anstoss um 16:30 Uhr in Schlangen !
URL:https://fortuna-schlangen.de/event/a1-jsg-sv-brilon-t-spiel-1630-uhr/
LOCATION:Kunstrasenplatz Rennekamp\, Badstraße\, Schlangen\, NRW\, 33189\, Deutschland
CATEGORIES:Freundschaftsspiel,Sonstige Veranstaltung,Training
END:VEVENT
BEGIN:VEVENT
DTSTART;TZID=Europe/Berlin:20240611T173000
DTEND;TZID=Europe/Berlin:20240611T190000
DTSTAMP:20260425T151125
CREATED:20240318T154558Z
LAST-MODIFIED:20240318T154558Z
UID:20527-1718127000-1718132400@fortuna-schlangen.de
SUMMARY:Perspektivtraining der neuen C1-JSG / Beginn: 17:30 Uhr !
DESCRIPTION:Trainer Mike Klöpping \, mit Sichtungstraining !
URL:https://fortuna-schlangen.de/event/perspektivtraining-der-neuen-c1-jsg-beginn-1730-uhr-3/
LOCATION:Kunstrasen – Platzhälfte Nord\, Badstraße\, Schlangen\, NRW\, 33189\, Deutschland
CATEGORIES:Fortbildung,Sonstige Veranstaltung,Trainerbesprechung,Training
END:VEVENT
BEGIN:VEVENT
DTSTART;TZID=Europe/Berlin:20240611T190000
DTEND;TZID=Europe/Berlin:20240611T203000
DTSTAMP:20260425T151125
CREATED:20240610T101732Z
LAST-MODIFIED:20240610T101732Z
UID:20906-1718132400-1718137800@fortuna-schlangen.de
SUMMARY:Kleine Vorbereitungszeit der A2-JSG ab 19 Uhr in Schlangen !
DESCRIPTION:Einige Einheiten vor der normalen Vorbereitung ! Ab 19:00 Uhr in Schlangen !
URL:https://fortuna-schlangen.de/event/kleine-vorbereitungszeit-der-a2-jsg-ab-19-uhr-in-schlangen/
LOCATION:Kunstrasenplatz Rennekamp\, Badstraße\, Schlangen\, NRW\, 33189\, Deutschland
CATEGORIES:Trainerbesprechung,Training
END:VEVENT
BEGIN:VEVENT
DTSTART;TZID=Europe/Berlin:20240613T173000
DTEND;TZID=Europe/Berlin:20240613T190000
DTSTAMP:20260425T151125
CREATED:20240318T154801Z
LAST-MODIFIED:20240318T154801Z
UID:20530-1718299800-1718305200@fortuna-schlangen.de
SUMMARY:Perspektivtraining der neuen C1-JSG / Beginn: 17:30 Uhr !
DESCRIPTION:Trainer Mike Klöpping \, mit Sichtungstraining!
URL:https://fortuna-schlangen.de/event/perspektivtraining-der-neuen-c1-jsg-beginn-1730-uhr-4/
LOCATION:Kunstrasen – Platzhälfte Nord\, Badstraße\, Schlangen\, NRW\, 33189\, Deutschland
CATEGORIES:Fortbildung,Sonstige Veranstaltung,Trainerbesprechung,Training
END:VEVENT
BEGIN:VEVENT
DTSTART;TZID=Europe/Berlin:20240614T180000
DTEND;TZID=Europe/Berlin:20240614T220000
DTSTAMP:20260425T151125
CREATED:20240528T104852Z
LAST-MODIFIED:20240610T151704Z
UID:20835-1718388000-1718402400@fortuna-schlangen.de
SUMMARY:C1 Mannschaftsabend ab 18 Uhr (T. Mündkemüller)
DESCRIPTION:C1 Mannschaftsabend ab 18 Uhr
URL:https://fortuna-schlangen.de/event/c2-mannschaftsabend-ab-18-uhr/
LOCATION:Vereinsheim und Terrasse
CATEGORIES:Mannschaftsabend
END:VEVENT
BEGIN:VEVENT
DTSTART;TZID=Europe/Berlin:20240615T090000
DTEND;TZID=Europe/Berlin:20240615T130000
DTSTAMP:20260425T151125
CREATED:20240226T122708Z
LAST-MODIFIED:20240603T145042Z
UID:20365-1718442000-1718456400@fortuna-schlangen.de
SUMMARY:F-Jugend Freundschaftsrunde ! Ab 9:30 Uhr !
DESCRIPTION:Kreisrunde F-Junioren ! \nTurnier in Schlangen\, Beginn: 9:30 Uhr !
URL:https://fortuna-schlangen.de/event/f-jugend-freundschaftsrunde-ab-900-uhr/
LOCATION:Kunstrasenplatz Rennekamp\, Badstraße\, Schlangen\, NRW\, 33189\, Deutschland
CATEGORIES:Freundschaftsspiel,Sonstige Veranstaltung,Turnier
END:VEVENT
BEGIN:VEVENT
DTSTART;TZID=Europe/Berlin:20240615T130000
DTEND;TZID=Europe/Berlin:20240615T143000
DTSTAMP:20260425T151125
CREATED:20240214T121602Z
LAST-MODIFIED:20240226T122313Z
UID:20294-1718456400-1718461800@fortuna-schlangen.de
SUMMARY:E2-JSG  -  JSG Augustdorf-Hörste 2 / M-Spiel ; 13:30 Uhr !
DESCRIPTION:Meisterschaftsspiel ; Anstoss um 13:30 Uhr in Schlangen !
URL:https://fortuna-schlangen.de/event/e2-jsg-jsg-augustdorf-hoerste-2-m-spiel-10-uhr/
LOCATION:Kunstrasen – Platzhälfte Nord\, Badstraße\, Schlangen\, NRW\, 33189\, Deutschland
CATEGORIES:Meisterschaftsspiel,Sonstige Veranstaltung
END:VEVENT
BEGIN:VEVENT
DTSTART;TZID=Europe/Berlin:20240616T101500
DTEND;TZID=Europe/Berlin:20240616T130000
DTSTAMP:20260425T151125
CREATED:20240603T190708Z
LAST-MODIFIED:20240603T190708Z
UID:20869-1718532900-1718542800@fortuna-schlangen.de
SUMMARY:Auswärtsspiel\, Hinspiel der Aufstiegsrunde der A-Junioren Bezirksliga ! JSG Bentfeld  -  A1-JSG Schlangen-Oesterholz-Kohlstädt / 11 Uhr in Bentfeld/Boke !
DESCRIPTION:Hinspiel der Aufstiegsrunde der A-Junioren in Bentfeld/Boke ! Anstoss um 11:00 Uhr !
URL:https://fortuna-schlangen.de/event/auswaertsspiel-hinspiel-der-aufstiegsrunde-der-a-junioren-bezirksliga-jsg-bentfeld-a1-jsg-schlangen-oesterholz-kohlstaedt-11-uhr-in-bentfeld-boke/
LOCATION:Auswärtsspiel
CATEGORIES:Meisterschaftsspiel
END:VEVENT
BEGIN:VEVENT
DTSTART;TZID=Europe/Berlin:20240617T190000
DTEND;TZID=Europe/Berlin:20240617T210000
DTSTAMP:20260425T151125
CREATED:20240530T150503Z
LAST-MODIFIED:20240530T150503Z
UID:20848-1718650800-1718658000@fortuna-schlangen.de
SUMMARY:Elternabend / Besprechung der neuen B1-JSG ab 19 Uhr im Sporthaus !
DESCRIPTION:Infoabend für die Eltern der neuen B1 ab 19:00 Uhr !
URL:https://fortuna-schlangen.de/event/elternabend-besprechung-der-neuen-b1-jsg-ab-19-uhr-im-sporthaus/
LOCATION:Vereinsheim\, Badstraße\, Schlangen\, NRW\, 33189\, Deutschland
CATEGORIES:Elternabend,Mannschaftsabend,Sonstige Veranstaltung,VEREINSHEIM
END:VEVENT
BEGIN:VEVENT
DTSTART;TZID=Europe/Berlin:20240618T183000
DTEND;TZID=Europe/Berlin:20240618T203000
DTSTAMP:20260425T151125
CREATED:20240609T034925Z
LAST-MODIFIED:20240609T034925Z
UID:20902-1718735400-1718742600@fortuna-schlangen.de
SUMMARY:Jugendtrainersitzung im Sporthaus ab 18:30 Uhr !
DESCRIPTION:Besprechung für die neue Saison 2024/25 ab 18:30 Uhr !
URL:https://fortuna-schlangen.de/event/jugendtrainersitzung-im-sporthaus-ab-1830-uhr/
LOCATION:Vereinsheim\, Badstraße\, Schlangen\, NRW\, 33189\, Deutschland
CATEGORIES:Jugendtrainersitzung,Sonstige Veranstaltung,VEREINSHEIM
END:VEVENT
BEGIN:VEVENT
DTSTART;TZID=Europe/Berlin:20240618T190000
DTEND;TZID=Europe/Berlin:20240618T203000
DTSTAMP:20260425T151125
CREATED:20240610T102042Z
LAST-MODIFIED:20240610T102042Z
UID:20910-1718737200-1718742600@fortuna-schlangen.de
SUMMARY:Kleine Vorbereitungszeit der A2-JSG in Schlangen ! Ab 19 Uhr !
DESCRIPTION:Kleine Vorbereitung vor der normalen Vorbereitung ! Ab 19:00 Uhr in Schlangen!
URL:https://fortuna-schlangen.de/event/kleine-vorbereitungszeit-der-a2-jsg-in-schlangen-ab-19-uhr/
LOCATION:Kunstrasenplatz Rennekamp\, Badstraße\, Schlangen\, NRW\, 33189\, Deutschland
CATEGORIES:Trainerbesprechung,Training
END:VEVENT
BEGIN:VEVENT
DTSTART;TZID=Europe/Berlin:20240620T181500
DTEND;TZID=Europe/Berlin:20240620T201500
DTSTAMP:20260425T151125
CREATED:20231212T170804Z
LAST-MODIFIED:20231212T170804Z
UID:19767-1718907300-1718914500@fortuna-schlangen.de
SUMMARY:Sportabzeichen VfL Schlangen / Von 18:30 - 20 Uhr !
DESCRIPTION:Training / Übungen / Sportabzeichen ; Von 18:30 Uhr – 20:00 Uhr in Schlangen !
URL:https://fortuna-schlangen.de/event/sportabzeichen-vfl-schlangen-von-1830-20-uhr-2/
LOCATION:Laufbahn Sportanlage Rennekamp
CATEGORIES:Sonstige Veranstaltung,Training
END:VEVENT
BEGIN:VEVENT
DTSTART;TZID=Europe/Berlin:20240620T190000
DTEND;TZID=Europe/Berlin:20240620T203000
DTSTAMP:20260425T151125
CREATED:20240614T174831Z
LAST-MODIFIED:20240614T174831Z
UID:20946-1718910000-1718915400@fortuna-schlangen.de
SUMMARY:Kleine Vorbereitungszeit der A2-JSG in Schlangen ab 19 Uhr !
DESCRIPTION:Eine Einheit der A2-JSG um 19:00 Uhr in Schlangen !
URL:https://fortuna-schlangen.de/event/kleine-vorbereitungszeit-der-a2-jsg-in-schlangen-ab-19-uhr-2/
LOCATION:Kunstrasenplatz Rennekamp\, Badstraße\, Schlangen\, NRW\, 33189\, Deutschland
CATEGORIES:Sonstige Veranstaltung,Trainerbesprechung,Training
END:VEVENT
BEGIN:VEVENT
DTSTART;TZID=Europe/Berlin:20240620T190000
DTEND;TZID=Europe/Berlin:20240620T210000
DTSTAMP:20260425T151125
CREATED:20240318T155123Z
LAST-MODIFIED:20240318T155123Z
UID:20533-1718910000-1718917200@fortuna-schlangen.de
SUMMARY:Elternabend / Besprechung\, der neuen C1-JSG ! Sporthaus ab 19 Uhr !
DESCRIPTION:Gesprächsrunde im Sporthaus der C1-JSG ! Beginn: 19:00 Uhr !
URL:https://fortuna-schlangen.de/event/elternabend-besprechung-der-neuen-c1-jsg-sporthaus-ab-19-uhr/
LOCATION:Vereinsheim\, Badstraße\, Schlangen\, NRW\, 33189\, Deutschland
CATEGORIES:Elternabend,Fortbildung,Mannschaftsabend,Sonstige Veranstaltung,VEREINSHEIM
END:VEVENT
BEGIN:VEVENT
DTSTART;TZID=Europe/Berlin:20240621T190000
DTEND;TZID=Europe/Berlin:20240621T230000
DTSTAMP:20260425T151125
CREATED:20240530T145857Z
LAST-MODIFIED:20240530T145857Z
UID:20844-1718996400-1719010800@fortuna-schlangen.de
SUMMARY:Alte C1-JSG ; Mannschaftsabend ab 19 Uhr !
DESCRIPTION:Spielabend mit der Konsole ;  Mannschaft von der Saison 2023/24 !
URL:https://fortuna-schlangen.de/event/alte-c1-jsg-mannschaftsabend-ab-19-uhr/
LOCATION:Vereinsheim\, Badstraße\, Schlangen\, NRW\, 33189\, Deutschland
CATEGORIES:Mannschaftsabend,Sonstige Veranstaltung,VEREINSHEIM
END:VEVENT
BEGIN:VEVENT
DTSTART;TZID=Europe/Berlin:20240622T093000
DTEND;TZID=Europe/Berlin:20240622T110000
DTSTAMP:20260425T151125
CREATED:20240214T121951Z
LAST-MODIFIED:20240214T121951Z
UID:20297-1719048600-1719054000@fortuna-schlangen.de
SUMMARY:E1-JSG  -  JSG Hiddesen-Heidenoldendorf / M-Spiel ; 10 Uhr !
DESCRIPTION:Meisterschaftsspiel ; Anstoss um 10:00 Uhr in Schlangen !
URL:https://fortuna-schlangen.de/event/e1-jsg-jsg-hiddesen-heidenoldendorf-m-spiel-10-uhr/
LOCATION:Kunstrasen – Platzhälfte Nord\, Badstraße\, Schlangen\, NRW\, 33189\, Deutschland
CATEGORIES:Meisterschaftsspiel,Sonstige Veranstaltung
END:VEVENT
BEGIN:VEVENT
DTSTART;TZID=Europe/Berlin:20240622T110000
DTEND;TZID=Europe/Berlin:20240622T123000
DTSTAMP:20260425T151125
CREATED:20240425T174832Z
LAST-MODIFIED:20240425T174832Z
UID:20698-1719054000-1719059400@fortuna-schlangen.de
SUMMARY:E2-JSG  -  SV Eintr. Jerxen-Orbke 2 / M-Spiel ; 11:30 Uhr !
DESCRIPTION:Meisterschaftsspiel ; Anstoss um 11:30 Uhr in Schlangen !
URL:https://fortuna-schlangen.de/event/e2-jsg-sv-eintr-jerxen-orbke-2-m-spiel-1130-uhr/
LOCATION:Kunstrasen – Platzhälfte Nord\, Badstraße\, Schlangen\, NRW\, 33189\, Deutschland
CATEGORIES:Meisterschaftsspiel,Sonstige Veranstaltung
END:VEVENT
BEGIN:VEVENT
DTSTART;TZID=Europe/Berlin:20240622T110000
DTEND;TZID=Europe/Berlin:20240622T180000
DTSTAMP:20260425T151125
CREATED:20240518T121140Z
LAST-MODIFIED:20240518T121140Z
UID:20769-1719054000-1719079200@fortuna-schlangen.de
SUMMARY:Saisonabschluss E1 und E2
DESCRIPTION:Saisonabschluss E1 und E2
URL:https://fortuna-schlangen.de/event/saisonabschluss-e1-und-e2/
LOCATION:Vereinsheim und Terrasse
CATEGORIES:Mannschaftsnachmittag,Vereinsheim Terrasse
END:VEVENT
BEGIN:VEVENT
DTSTART;TZID=Europe/Berlin:20240622T133000
DTEND;TZID=Europe/Berlin:20240622T150000
DTSTAMP:20260425T151125
CREATED:20240214T122258Z
LAST-MODIFIED:20240214T122258Z
UID:20300-1719063000-1719068400@fortuna-schlangen.de
SUMMARY:Kohlstädt: E3-JSG  -  CSL Detmold 2 / M-Spiel ; 14 Uhr !
DESCRIPTION:Meisterschaftsspiel ; Anstoss um 14:00 Uhr in Kohlstädt !
URL:https://fortuna-schlangen.de/event/kohlstaedt-e3-jsg-csl-detmold-2-m-spiel-14-uhr/
LOCATION:Rasenplatz in Kohlstädt\, In der Rote\, Schlangen\, Nordrhein-Westfalen\, 33189
CATEGORIES:Meisterschaftsspiel,Sonstige Veranstaltung
END:VEVENT
BEGIN:VEVENT
DTSTART;TZID=Europe/Berlin:20240623T101500
DTEND;TZID=Europe/Berlin:20240623T140000
DTSTAMP:20260425T151125
CREATED:20240603T182528Z
LAST-MODIFIED:20240603T182528Z
UID:20865-1719137700-1719151200@fortuna-schlangen.de
SUMMARY:Aufstiegsspiel der A-Junioren in die Bezirksliga ! Rückspiel : A1-JSG  -  JSG Bentfeld / 11 Uhr !
DESCRIPTION:Rückspiel der Aufstiegsrunde\, in die A-Junioren Bezirksliga ! Anstoss um 11:00 Uhr in Schlangen !
URL:https://fortuna-schlangen.de/event/aufstiegsspiel-der-a-junioren-in-die-bezirksliga-rueckspiel-a1-jsg-jsg-bentfeld-11-uhr/
LOCATION:Kunstrasenplatz Rennekamp\, Badstraße\, Schlangen\, NRW\, 33189\, Deutschland
CATEGORIES:Meisterschaftsspiel
END:VEVENT
BEGIN:VEVENT
DTSTART;TZID=Europe/Berlin:20240624T180000
DTEND;TZID=Europe/Berlin:20240624T193000
DTSTAMP:20260425T151125
CREATED:20240612T075535Z
LAST-MODIFIED:20240624T092817Z
UID:20932-1719252000-1719257400@fortuna-schlangen.de
SUMMARY:Eine Kennlern-Trainingseinheit der neuen B1-JSG ab 18:00 Uhr !
DESCRIPTION:Eine Einheit in Schlangen ab 18:00 Uhr !
URL:https://fortuna-schlangen.de/event/eine-kennlern-trainingseinheit-der-neuen-b1-jsg-ab-1800-uhr/
LOCATION:Kunstrasen – Platzhälfte Nord\, Badstraße\, Schlangen\, NRW\, 33189\, Deutschland
CATEGORIES:Sonstige Veranstaltung,Trainerbesprechung,Training
END:VEVENT
END:VCALENDAR