BEGIN:VCALENDAR
VERSION:2.0
PRODID:-//FC FORTUNA SCHLANGEN - ECPv6.15.20//NONSGML v1.0//EN
CALSCALE:GREGORIAN
METHOD:PUBLISH
X-WR-CALNAME:FC FORTUNA SCHLANGEN
X-ORIGINAL-URL:https://fortuna-schlangen.de
X-WR-CALDESC:Veranstaltungen für FC FORTUNA SCHLANGEN
REFRESH-INTERVAL;VALUE=DURATION:PT1H
X-Robots-Tag:noindex
X-PUBLISHED-TTL:PT1H
BEGIN:VTIMEZONE
TZID:Europe/Berlin
BEGIN:DAYLIGHT
TZOFFSETFROM:+0100
TZOFFSETTO:+0200
TZNAME:CEST
DTSTART:20230326T010000
END:DAYLIGHT
BEGIN:STANDARD
TZOFFSETFROM:+0200
TZOFFSETTO:+0100
TZNAME:CET
DTSTART:20231029T010000
END:STANDARD
BEGIN:DAYLIGHT
TZOFFSETFROM:+0100
TZOFFSETTO:+0200
TZNAME:CEST
DTSTART:20240331T010000
END:DAYLIGHT
BEGIN:STANDARD
TZOFFSETFROM:+0200
TZOFFSETTO:+0100
TZNAME:CET
DTSTART:20241027T010000
END:STANDARD
BEGIN:DAYLIGHT
TZOFFSETFROM:+0100
TZOFFSETTO:+0200
TZNAME:CEST
DTSTART:20250330T010000
END:DAYLIGHT
BEGIN:STANDARD
TZOFFSETFROM:+0200
TZOFFSETTO:+0100
TZNAME:CET
DTSTART:20251026T010000
END:STANDARD
END:VTIMEZONE
BEGIN:VEVENT
DTSTART;TZID=Europe/Berlin:20241026T113000
DTEND;TZID=Europe/Berlin:20241026T133000
DTSTAMP:20260426T015628
CREATED:20241010T084253Z
LAST-MODIFIED:20241016T080051Z
UID:21777-1729942200-1729949400@fortuna-schlangen.de
SUMMARY:Testspiel: C2-JSG  -  SC Borchen 2  / T-Spiel ; 12 Uhr !
DESCRIPTION:Freundschaftsspiel ! \nAnstoss um 12:00 Uhr in Schlangen !
URL:https://fortuna-schlangen.de/event/testspiel-c2-jsg-gegner-offen-t-spiel-12-uhr/
LOCATION:Kunstrasenplatz Rennekamp\, Badstraße\, Schlangen\, NRW\, 33189\, Deutschland
CATEGORIES:Freundschaftsspiel,Sonstige Veranstaltung
END:VEVENT
END:VCALENDAR