BEGIN:VCALENDAR
VERSION:2.0
PRODID:-//FC FORTUNA SCHLANGEN - ECPv6.15.20//NONSGML v1.0//EN
CALSCALE:GREGORIAN
METHOD:PUBLISH
X-ORIGINAL-URL:https://fortuna-schlangen.de
X-WR-CALDESC:Veranstaltungen für FC FORTUNA SCHLANGEN
REFRESH-INTERVAL;VALUE=DURATION:PT1H
X-Robots-Tag:noindex
X-PUBLISHED-TTL:PT1H
BEGIN:VTIMEZONE
TZID:Europe/Berlin
BEGIN:DAYLIGHT
TZOFFSETFROM:+0100
TZOFFSETTO:+0200
TZNAME:CEST
DTSTART:20230326T010000
END:DAYLIGHT
BEGIN:STANDARD
TZOFFSETFROM:+0200
TZOFFSETTO:+0100
TZNAME:CET
DTSTART:20231029T010000
END:STANDARD
BEGIN:DAYLIGHT
TZOFFSETFROM:+0100
TZOFFSETTO:+0200
TZNAME:CEST
DTSTART:20240331T010000
END:DAYLIGHT
BEGIN:STANDARD
TZOFFSETFROM:+0200
TZOFFSETTO:+0100
TZNAME:CET
DTSTART:20241027T010000
END:STANDARD
BEGIN:DAYLIGHT
TZOFFSETFROM:+0100
TZOFFSETTO:+0200
TZNAME:CEST
DTSTART:20250330T010000
END:DAYLIGHT
BEGIN:STANDARD
TZOFFSETFROM:+0200
TZOFFSETTO:+0100
TZNAME:CET
DTSTART:20251026T010000
END:STANDARD
END:VTIMEZONE
BEGIN:VEVENT
DTSTART;TZID=Europe/Berlin:20241012T100000
DTEND;TZID=Europe/Berlin:20241012T113000
DTSTAMP:20260426T002252
CREATED:20240808T170619Z
LAST-MODIFIED:20240925T171700Z
UID:21416-1728727200-1728732600@fortuna-schlangen.de
SUMMARY:Meisterschaft: E2-JSG  -  CSL Detmold 2 / M-Spiel ; 10:30 Uhr !
DESCRIPTION:Meisterschaftsspiel ; Anstoss um 10:30 Uhr in Schlangen !
URL:https://fortuna-schlangen.de/event/meisterschaft-e2-jsg-csl-detmold-2-m-spiel-1130-uhr/
LOCATION:Kunstrasen – Platzhälfte Nord\, Badstraße\, Schlangen\, NRW\, 33189\, Deutschland
CATEGORIES:Meisterschaftsspiel,Sonstige Veranstaltung
END:VEVENT
BEGIN:VEVENT
DTSTART;TZID=Europe/Berlin:20241012T100000
DTEND;TZID=Europe/Berlin:20241012T113000
DTSTAMP:20260426T002252
CREATED:20240808T175623Z
LAST-MODIFIED:20240930T121142Z
UID:21429-1728727200-1728732600@fortuna-schlangen.de
SUMMARY:Meisterschaft: E1-JSG  -  CSL Detmold / M-Spiel ; 10:30 Uhr !
DESCRIPTION:Meisterschaftsspiel ; Anstoss um 10:30 Uhr in Schlangen !
URL:https://fortuna-schlangen.de/event/voraussichtlich-in-kohlstaedt-e1-jsg-csl-detmold-m-spiel-vlt-14-uhr/
LOCATION:Kunstrasen – Platzhälfte Süd\, Badstraße\, Schlangen\, NRW\, 33189\, Deutschland
CATEGORIES:Meisterschaftsspiel,Sonstige Veranstaltung
END:VEVENT
BEGIN:VEVENT
DTSTART;TZID=Europe/Berlin:20241012T113000
DTEND;TZID=Europe/Berlin:20241012T131500
DTSTAMP:20260426T002252
CREATED:20240808T175328Z
LAST-MODIFIED:20240925T172047Z
UID:21427-1728732600-1728738900@fortuna-schlangen.de
SUMMARY:Meisterschaft: D2-JSG  -  JSG Hügelland / M-Spiel ; 12 Uhr !
DESCRIPTION:Meisterschaftsspiel ; Anstoss um 12:00 Uhr in Schlangen !
URL:https://fortuna-schlangen.de/event/voraussichtlich-in-kohlstaedt-d2-jsg-jsg-huegelland-m-spiel-evtl-11-uhr/
LOCATION:Kunstrasenplatz Rennekamp\, Badstraße\, Schlangen\, NRW\, 33189\, Deutschland
CATEGORIES:Meisterschaftsspiel,Sonstige Veranstaltung
END:VEVENT
BEGIN:VEVENT
DTSTART;TZID=Europe/Berlin:20241012T153000
DTEND;TZID=Europe/Berlin:20241012T180000
DTSTAMP:20260426T002252
CREATED:20241007T155142Z
LAST-MODIFIED:20241007T155142Z
UID:21762-1728747000-1728756000@fortuna-schlangen.de
SUMMARY:Meisterschaft: A2-JSG  -  TSV Horn / M-Spiel ; 16 Uhr !
DESCRIPTION:Meisterschaftsspiel ! Anstoss um 16:00 Uhr in Schlangen !
URL:https://fortuna-schlangen.de/event/meisterschaft-a2-jsg-tsv-horn-m-spiel-16-uhr/
LOCATION:Kunstrasenplatz Rennekamp\, Badstraße\, Schlangen\, NRW\, 33189\, Deutschland
CATEGORIES:Meisterschaftsspiel,Sonstige Veranstaltung
END:VEVENT
END:VCALENDAR