BEGIN:VCALENDAR
VERSION:2.0
PRODID:-//FC FORTUNA SCHLANGEN - ECPv6.15.20//NONSGML v1.0//EN
CALSCALE:GREGORIAN
METHOD:PUBLISH
X-WR-CALNAME:FC FORTUNA SCHLANGEN
X-ORIGINAL-URL:https://fortuna-schlangen.de
X-WR-CALDESC:Veranstaltungen für FC FORTUNA SCHLANGEN
REFRESH-INTERVAL;VALUE=DURATION:PT1H
X-Robots-Tag:noindex
X-PUBLISHED-TTL:PT1H
BEGIN:VTIMEZONE
TZID:Europe/Berlin
BEGIN:DAYLIGHT
TZOFFSETFROM:+0100
TZOFFSETTO:+0200
TZNAME:CEST
DTSTART:20230326T010000
END:DAYLIGHT
BEGIN:STANDARD
TZOFFSETFROM:+0200
TZOFFSETTO:+0100
TZNAME:CET
DTSTART:20231029T010000
END:STANDARD
BEGIN:DAYLIGHT
TZOFFSETFROM:+0100
TZOFFSETTO:+0200
TZNAME:CEST
DTSTART:20240331T010000
END:DAYLIGHT
BEGIN:STANDARD
TZOFFSETFROM:+0200
TZOFFSETTO:+0100
TZNAME:CET
DTSTART:20241027T010000
END:STANDARD
BEGIN:DAYLIGHT
TZOFFSETFROM:+0100
TZOFFSETTO:+0200
TZNAME:CEST
DTSTART:20250330T010000
END:DAYLIGHT
BEGIN:STANDARD
TZOFFSETFROM:+0200
TZOFFSETTO:+0100
TZNAME:CET
DTSTART:20251026T010000
END:STANDARD
END:VTIMEZONE
BEGIN:VEVENT
DTSTART;TZID=Europe/Berlin:20241005T103000
DTEND;TZID=Europe/Berlin:20241005T123000
DTSTAMP:20260425T225703
CREATED:20240929T061737Z
LAST-MODIFIED:20240930T112505Z
UID:21723-1728124200-1728131400@fortuna-schlangen.de
SUMMARY:Meisterschaft : B-Juniorinnen SF  -  TuRa Elsen / M-Spiel ; 11 Uhr !
DESCRIPTION:Meisterschaftsspiel \, Anstoss ist um 11:00 Uhr in Schlangen !
URL:https://fortuna-schlangen.de/event/vorraussichtlich-meisterschaft-b-juniorinnen-sf-tura-elsen-m-spiel-11-uhr/
LOCATION:Kunstrasenplatz Rennekamp\, Badstraße\, Schlangen\, NRW\, 33189\, Deutschland
CATEGORIES:Meisterschaftsspiel,Sonstige Veranstaltung
END:VEVENT
BEGIN:VEVENT
DTSTART;TZID=Europe/Berlin:20241005T123000
DTEND;TZID=Europe/Berlin:20241005T143000
DTSTAMP:20260425T225703
CREATED:20240807T182437Z
LAST-MODIFIED:20240929T060232Z
UID:21395-1728131400-1728138600@fortuna-schlangen.de
SUMMARY:Meisterschaft: C2-JSG  -  JSG Hagen-Holzhausen 2 / M-Spiel ; 13 Uhr !
DESCRIPTION:Meisterschaftsspiel ; Anstoss um 13:00 Uhr in Schlangen !
URL:https://fortuna-schlangen.de/event/meisterschaft-c2-jsg-jsg-jsg-hagen-holzhausen-2-m-spiel-1230-uhr/
LOCATION:Kunstrasenplatz Rennekamp\, Badstraße\, Schlangen\, NRW\, 33189\, Deutschland
CATEGORIES:Meisterschaftsspiel,Sonstige Veranstaltung
END:VEVENT
BEGIN:VEVENT
DTSTART;TZID=Europe/Berlin:20241005T143000
DTEND;TZID=Europe/Berlin:20241005T170000
DTSTAMP:20260425T225703
CREATED:20240807T172342Z
LAST-MODIFIED:20240929T060105Z
UID:21391-1728138600-1728147600@fortuna-schlangen.de
SUMMARY:Meisterschaft: A2-JSG  -  FSV Pivitsheide / M-Spiel ; 15 Uhr !
DESCRIPTION:Meisterschaftsspiel ; Anstoss um 15:00 Uhr in Schlangen !
URL:https://fortuna-schlangen.de/event/meisterschaft-a2-jsg-fsv-pivitsheide-m-spiel-16-uhr/
LOCATION:Kunstrasenplatz Rennekamp\, Badstraße\, Schlangen\, NRW\, 33189\, Deutschland
CATEGORIES:Meisterschaftsspiel,Sonstige Veranstaltung
END:VEVENT
END:VCALENDAR