BEGIN:VCALENDAR
VERSION:2.0
PRODID:-//FC FORTUNA SCHLANGEN - ECPv6.15.20//NONSGML v1.0//EN
CALSCALE:GREGORIAN
METHOD:PUBLISH
X-WR-CALNAME:FC FORTUNA SCHLANGEN
X-ORIGINAL-URL:https://fortuna-schlangen.de
X-WR-CALDESC:Veranstaltungen für FC FORTUNA SCHLANGEN
REFRESH-INTERVAL;VALUE=DURATION:PT1H
X-Robots-Tag:noindex
X-PUBLISHED-TTL:PT1H
BEGIN:VTIMEZONE
TZID:Europe/Berlin
BEGIN:DAYLIGHT
TZOFFSETFROM:+0100
TZOFFSETTO:+0200
TZNAME:CEST
DTSTART:20230326T010000
END:DAYLIGHT
BEGIN:STANDARD
TZOFFSETFROM:+0200
TZOFFSETTO:+0100
TZNAME:CET
DTSTART:20231029T010000
END:STANDARD
BEGIN:DAYLIGHT
TZOFFSETFROM:+0100
TZOFFSETTO:+0200
TZNAME:CEST
DTSTART:20240331T010000
END:DAYLIGHT
BEGIN:STANDARD
TZOFFSETFROM:+0200
TZOFFSETTO:+0100
TZNAME:CET
DTSTART:20241027T010000
END:STANDARD
BEGIN:DAYLIGHT
TZOFFSETFROM:+0100
TZOFFSETTO:+0200
TZNAME:CEST
DTSTART:20250330T010000
END:DAYLIGHT
BEGIN:STANDARD
TZOFFSETFROM:+0200
TZOFFSETTO:+0100
TZNAME:CET
DTSTART:20251026T010000
END:STANDARD
END:VTIMEZONE
BEGIN:VEVENT
DTSTART;TZID=Europe/Berlin:20240910T173000
DTEND;TZID=Europe/Berlin:20240910T193000
DTSTAMP:20260426T001959
CREATED:20240807T163828Z
LAST-MODIFIED:20240906T072810Z
UID:21373-1725989400-1725996600@fortuna-schlangen.de
SUMMARY:Pokalspiel: D1-JSG  -  FSV Pivitsheide / P-Spiel ; 18 Uhr !
DESCRIPTION:1. Pokalrunde ; Anstoss um 18:00 Uhr in Schlangen !
URL:https://fortuna-schlangen.de/event/voraussichtlich-pokalspiel-d1-jsg-fsv-pivitsheide-p-spiel-18-uhr/
LOCATION:Kunstrasenplatz Rennekamp\, Badstraße\, Schlangen\, NRW\, 33189\, Deutschland
CATEGORIES:Pokalspiel,Sonstige Veranstaltung
END:VEVENT
BEGIN:VEVENT
DTSTART;TZID=Europe/Berlin:20240910T190000
DTEND;TZID=Europe/Berlin:20240910T210000
DTSTAMP:20260426T001959
CREATED:20240829T183559Z
LAST-MODIFIED:20240829T184702Z
UID:21600-1725994800-1726002000@fortuna-schlangen.de
SUMMARY:Trainer- und Betreuerversammlung im Sporthaus (Jugend) ! Ab 19 Uhr !
DESCRIPTION:Besprechung \, Planung von Heiko Biere ! \nSporthaus in Schlangen ab 19:00 Uhr !
URL:https://fortuna-schlangen.de/event/betreuer-und-trainerstab-sitzung-im-sporthaus-infoabend-ab-19-uhr/
LOCATION:Vereinsheim\, Badstraße\, Schlangen\, NRW\, 33189\, Deutschland
CATEGORIES:Fortbildung,Sonstige Veranstaltung,Trainerbesprechung,VEREINSHEIM
END:VEVENT
END:VCALENDAR