BEGIN:VCALENDAR
VERSION:2.0
PRODID:-//FC FORTUNA SCHLANGEN - ECPv6.15.20//NONSGML v1.0//EN
CALSCALE:GREGORIAN
METHOD:PUBLISH
X-WR-CALNAME:FC FORTUNA SCHLANGEN
X-ORIGINAL-URL:https://fortuna-schlangen.de
X-WR-CALDESC:Veranstaltungen für FC FORTUNA SCHLANGEN
REFRESH-INTERVAL;VALUE=DURATION:PT1H
X-Robots-Tag:noindex
X-PUBLISHED-TTL:PT1H
BEGIN:VTIMEZONE
TZID:Europe/Berlin
BEGIN:DAYLIGHT
TZOFFSETFROM:+0100
TZOFFSETTO:+0200
TZNAME:CEST
DTSTART:20230326T010000
END:DAYLIGHT
BEGIN:STANDARD
TZOFFSETFROM:+0200
TZOFFSETTO:+0100
TZNAME:CET
DTSTART:20231029T010000
END:STANDARD
BEGIN:DAYLIGHT
TZOFFSETFROM:+0100
TZOFFSETTO:+0200
TZNAME:CEST
DTSTART:20240331T010000
END:DAYLIGHT
BEGIN:STANDARD
TZOFFSETFROM:+0200
TZOFFSETTO:+0100
TZNAME:CET
DTSTART:20241027T010000
END:STANDARD
BEGIN:DAYLIGHT
TZOFFSETFROM:+0100
TZOFFSETTO:+0200
TZNAME:CEST
DTSTART:20250330T010000
END:DAYLIGHT
BEGIN:STANDARD
TZOFFSETFROM:+0200
TZOFFSETTO:+0100
TZNAME:CET
DTSTART:20251026T010000
END:STANDARD
END:VTIMEZONE
BEGIN:VEVENT
DTSTART;TZID=Europe/Berlin:20240907T090000
DTEND;TZID=Europe/Berlin:20240907T123000
DTSTAMP:20260425T225634
CREATED:20240805T162848Z
LAST-MODIFIED:20240820T145809Z
UID:21324-1725699600-1725712200@fortuna-schlangen.de
SUMMARY:F-Junioren Tunier (Sportfest) ; Beginn: 9:30 Uhr !
DESCRIPTION:Freundschaftsturnier der F-Junioren ; \nab 9:30 Uhr in Schlangen !
URL:https://fortuna-schlangen.de/event/mini-kicker-runde-sportfest-beginn-930-uhr/
LOCATION:Kunstrasenplatz Rennekamp\, Badstraße\, Schlangen\, NRW\, 33189\, Deutschland
CATEGORIES:Sonstige Veranstaltung,Sportwoche,Turnier
END:VEVENT
BEGIN:VEVENT
DTSTART;TZID=Europe/Berlin:20240907T090000
DTEND;TZID=Europe/Berlin:20240907T233000
DTSTAMP:20260425T225634
CREATED:20240708T124114Z
LAST-MODIFIED:20240820T145916Z
UID:21109-1725699600-1725751800@fortuna-schlangen.de
SUMMARY:Fortunas 4Days (Sportfest) / Spiele und Turniere !
DESCRIPTION:Sportveranstaltungen\, Feierlichkeiten und noch viel mehr …….. !
URL:https://fortuna-schlangen.de/event/fortunas-4days-sportfest-spiele-und-turniere-3/
LOCATION:Gesamtes Fortuna Sportgelände\, Badstraße\, Schlangen\, 33189\, Deutschland
CATEGORIES:Meisterschaftsspiel,Sonstige Veranstaltung,Sportwoche,Turnier,VEREINSHEIM
END:VEVENT
BEGIN:VEVENT
DTSTART;TZID=Europe/Berlin:20240907T123000
DTEND;TZID=Europe/Berlin:20240907T140000
DTSTAMP:20260425T225634
CREATED:20240805T163917Z
LAST-MODIFIED:20240805T163926Z
UID:21329-1725712200-1725717600@fortuna-schlangen.de
SUMMARY:Meisterschaft: E2-JSG  -  JSG Augustdorf-Hörste 2 / M-Spiel ; 13 Uhr ! (Sportfest)
DESCRIPTION:Meisterschaftsspiel ; Anstoss um 13:00 Uhr in Schlangen !
URL:https://fortuna-schlangen.de/event/meisterschaft-e2-jsg-jsg-augustdorf-hoerste-2-m-spiel-13-uhr-sportfest/
LOCATION:Kunstrasen – Platzhälfte Süd\, Badstraße\, Schlangen\, NRW\, 33189\, Deutschland
CATEGORIES:Meisterschaftsspiel,Sonstige Veranstaltung,Sportwoche
END:VEVENT
BEGIN:VEVENT
DTSTART;TZID=Europe/Berlin:20240907T140000
DTEND;TZID=Europe/Berlin:20240907T154500
DTSTAMP:20260425T225634
CREATED:20240805T164402Z
LAST-MODIFIED:20240805T164422Z
UID:21331-1725717600-1725723900@fortuna-schlangen.de
SUMMARY:Meisterschaft: E1-JSG  -  Post TSV Detmold / M-Spiel ; 14:30 Uhr ! (Sportfest)
DESCRIPTION:Meisterschaftsspiel ; Anstoss um 14:30 Uhr in Schlangen !
URL:https://fortuna-schlangen.de/event/meisterschaft-e1-jsg-post-tsv-detmold-m-spiel-1430-uhr-sportfest/
LOCATION:Kunstrasen – Platzhälfte Nord\, Badstraße\, Schlangen\, NRW\, 33189\, Deutschland
CATEGORIES:Meisterschaftsspiel,Sonstige Veranstaltung,Sportwoche
END:VEVENT
BEGIN:VEVENT
DTSTART;TZID=Europe/Berlin:20240907T140000
DTEND;TZID=Europe/Berlin:20240907T154500
DTSTAMP:20260425T225634
CREATED:20240805T165021Z
LAST-MODIFIED:20240805T165028Z
UID:21333-1725717600-1725723900@fortuna-schlangen.de
SUMMARY:Meisterschaft: D2-JSG  -  JSG Kachtenhausen-Helpup U13 / M-Spiel ; 14:30 Uhr ! (Sportfest)
DESCRIPTION:Meisterschaftsspiel ; Anstoss um 14:30 Uhr in Schlangen !
URL:https://fortuna-schlangen.de/event/meisterschaft-d2-jsg-jsg-kachtenhausen-helpup-u13-m-spiel-1430-uhr-sportfest/
LOCATION:Kunstrasen – Platzhälfte Süd\, Badstraße\, Schlangen\, NRW\, 33189\, Deutschland
CATEGORIES:Meisterschaftsspiel,Sonstige Veranstaltung,Sportwoche
END:VEVENT
BEGIN:VEVENT
DTSTART;TZID=Europe/Berlin:20240907T160000
DTEND;TZID=Europe/Berlin:20240907T180000
DTSTAMP:20260425T225634
CREATED:20240805T165346Z
LAST-MODIFIED:20240805T165426Z
UID:21335-1725724800-1725732000@fortuna-schlangen.de
SUMMARY:Pokal: C1-JSG  -  JSG Hügelland / P-Spiel ; 16:30 Uhr ! (Sportfest)
DESCRIPTION:Pokalspiel 1.Runde / Anstoss um 16:30 Uhr in Schlangen !
URL:https://fortuna-schlangen.de/event/pokal-c1-jsg-jsg-huegelland-p-spiel-1630-uhr-sportfest/
LOCATION:Kunstrasenplatz Rennekamp\, Badstraße\, Schlangen\, NRW\, 33189\, Deutschland
CATEGORIES:Pokalspiel,Sonstige Veranstaltung,Sportwoche
END:VEVENT
BEGIN:VEVENT
DTSTART;TZID=Europe/Berlin:20240907T180000
DTEND;TZID=Europe/Berlin:20240907T203000
DTSTAMP:20260425T225634
CREATED:20240805T165656Z
LAST-MODIFIED:20240805T165703Z
UID:21337-1725732000-1725741000@fortuna-schlangen.de
SUMMARY:Meisterschaft: A2-JSG  -  JSG Hügelland / M-Spiel ; 18:30 Uhr ! (Sportfest)
DESCRIPTION:Meisterschaftsspiel ; Anstoss um 18:30 Uhr in Schlangen !
URL:https://fortuna-schlangen.de/event/meisterschaft-a2-jsg-jsg-huegelland-m-spiel-1830-uhr-sportfest/
LOCATION:Kunstrasenplatz Rennekamp\, Badstraße\, Schlangen\, NRW\, 33189\, Deutschland
CATEGORIES:Meisterschaftsspiel,Sonstige Veranstaltung,Sportwoche
END:VEVENT
END:VCALENDAR