BEGIN:VCALENDAR
VERSION:2.0
PRODID:-//FC FORTUNA SCHLANGEN - ECPv6.15.20//NONSGML v1.0//EN
CALSCALE:GREGORIAN
METHOD:PUBLISH
X-WR-CALNAME:FC FORTUNA SCHLANGEN
X-ORIGINAL-URL:https://fortuna-schlangen.de
X-WR-CALDESC:Veranstaltungen für FC FORTUNA SCHLANGEN
REFRESH-INTERVAL;VALUE=DURATION:PT1H
X-Robots-Tag:noindex
X-PUBLISHED-TTL:PT1H
BEGIN:VTIMEZONE
TZID:Europe/Berlin
BEGIN:DAYLIGHT
TZOFFSETFROM:+0100
TZOFFSETTO:+0200
TZNAME:CEST
DTSTART:20230326T010000
END:DAYLIGHT
BEGIN:STANDARD
TZOFFSETFROM:+0200
TZOFFSETTO:+0100
TZNAME:CET
DTSTART:20231029T010000
END:STANDARD
BEGIN:DAYLIGHT
TZOFFSETFROM:+0100
TZOFFSETTO:+0200
TZNAME:CEST
DTSTART:20240331T010000
END:DAYLIGHT
BEGIN:STANDARD
TZOFFSETFROM:+0200
TZOFFSETTO:+0100
TZNAME:CET
DTSTART:20241027T010000
END:STANDARD
BEGIN:DAYLIGHT
TZOFFSETFROM:+0100
TZOFFSETTO:+0200
TZNAME:CEST
DTSTART:20250330T010000
END:DAYLIGHT
BEGIN:STANDARD
TZOFFSETFROM:+0200
TZOFFSETTO:+0100
TZNAME:CET
DTSTART:20251026T010000
END:STANDARD
END:VTIMEZONE
BEGIN:VEVENT
DTSTART;TZID=Europe/Berlin:20240901T103000
DTEND;TZID=Europe/Berlin:20240901T130000
DTSTAMP:20260425T225638
CREATED:20240721T111812Z
LAST-MODIFIED:20240721T111812Z
UID:21232-1725186600-1725195600@fortuna-schlangen.de
SUMMARY:A-Jgd. Bezirksliga: A1-JSG  -  SG FA Herringhausen/Eickum / M-Spiel ; 11 Uhr !
DESCRIPTION:Meisterschaftsspiel der A1-JSG / Anstoss um 11:00 Uhr in Schlangen !
URL:https://fortuna-schlangen.de/event/a-jgd-bezirksliga-a1-jsg-sg-fa-herringhausen-eickum-m-spiel-11-uhr/
LOCATION:Kunstrasenplatz Rennekamp\, Badstraße\, Schlangen\, NRW\, 33189\, Deutschland
CATEGORIES:Meisterschaftsspiel,Sonstige Veranstaltung
END:VEVENT
BEGIN:VEVENT
DTSTART;TZID=Europe/Berlin:20240901T110000
DTEND;TZID=Europe/Berlin:20240901T180000
DTSTAMP:20260425T225638
CREATED:20240702T185025Z
LAST-MODIFIED:20240702T185025Z
UID:21074-1725188400-1725213600@fortuna-schlangen.de
SUMMARY:125 Jahre VfL Schlangen / Normaler Meisterschaftsbetrieb der Fussballer !
DESCRIPTION:Feierlichkeiten vom VfL Schlangen / \nAber regulärer Spieltag aufm Platz\, wenn Heimspiel angesetzt ist !
URL:https://fortuna-schlangen.de/event/125-jahre-vfl-schlangen-normaler-meisterschaftsbetrieb-der-fussballer/
LOCATION:Gesamtes Fortuna Sportgelände\, Badstraße\, Schlangen\, 33189\, Deutschland
CATEGORIES:Meisterschaftsspiel,Sonstige Veranstaltung
END:VEVENT
END:VCALENDAR