BEGIN:VCALENDAR
VERSION:2.0
PRODID:-//FC FORTUNA SCHLANGEN - ECPv6.15.20//NONSGML v1.0//EN
CALSCALE:GREGORIAN
METHOD:PUBLISH
X-WR-CALNAME:FC FORTUNA SCHLANGEN
X-ORIGINAL-URL:https://fortuna-schlangen.de
X-WR-CALDESC:Veranstaltungen für FC FORTUNA SCHLANGEN
REFRESH-INTERVAL;VALUE=DURATION:PT1H
X-Robots-Tag:noindex
X-PUBLISHED-TTL:PT1H
BEGIN:VTIMEZONE
TZID:Europe/Berlin
BEGIN:DAYLIGHT
TZOFFSETFROM:+0100
TZOFFSETTO:+0200
TZNAME:CEST
DTSTART:20230326T010000
END:DAYLIGHT
BEGIN:STANDARD
TZOFFSETFROM:+0200
TZOFFSETTO:+0100
TZNAME:CET
DTSTART:20231029T010000
END:STANDARD
BEGIN:DAYLIGHT
TZOFFSETFROM:+0100
TZOFFSETTO:+0200
TZNAME:CEST
DTSTART:20240331T010000
END:DAYLIGHT
BEGIN:STANDARD
TZOFFSETFROM:+0200
TZOFFSETTO:+0100
TZNAME:CET
DTSTART:20241027T010000
END:STANDARD
BEGIN:DAYLIGHT
TZOFFSETFROM:+0100
TZOFFSETTO:+0200
TZNAME:CEST
DTSTART:20250330T010000
END:DAYLIGHT
BEGIN:STANDARD
TZOFFSETFROM:+0200
TZOFFSETTO:+0100
TZNAME:CET
DTSTART:20251026T010000
END:STANDARD
END:VTIMEZONE
BEGIN:VEVENT
DTSTART;TZID=Europe/Berlin:20240818T103000
DTEND;TZID=Europe/Berlin:20240818T130000
DTSTAMP:20260425T213726
CREATED:20240718T194904Z
LAST-MODIFIED:20240719T141033Z
UID:21211-1723977000-1723986000@fortuna-schlangen.de
SUMMARY:A1-JSG  -  FSC Rheda / T-Spiel ; 11 Uhr in Geseke (Trainingslager) !
DESCRIPTION:Testspiel/Freundschaftsspiel ; Anstoss um 11:00 Uhr in Geseke !
URL:https://fortuna-schlangen.de/event/a1-jsg-fsc-rheda-t-spiel-1330-uhr-in-geseke-trainingslager/
LOCATION:Auswärtsspiel
CATEGORIES:Freundschaftsspiel,Sonstige Veranstaltung,Trainerbesprechung,Training
END:VEVENT
BEGIN:VEVENT
DTSTART;TZID=Europe/Berlin:20240818T130000
DTEND;TZID=Europe/Berlin:20240818T150000
DTSTAMP:20260425T213726
CREATED:20240726T161824Z
LAST-MODIFIED:20240818T074252Z
UID:21278-1723986000-1723993200@fortuna-schlangen.de
SUMMARY:B1-JSG  -  Kein Spiel ! Gegner abgesagt ! Dafür Training der B ! 13 Uhr !
DESCRIPTION:Trainingseinheit der B-Jugend ; Training um 13:00 Uhr in Schlangen !
URL:https://fortuna-schlangen.de/event/b1-jsg-tus-brake-t-spiel-13-uhr/
LOCATION:Kunstrasenplatz Rennekamp\, Badstraße\, Schlangen\, NRW\, 33189\, Deutschland
CATEGORIES:Sonstige Veranstaltung,Trainerbesprechung,Training
END:VEVENT
END:VCALENDAR