BEGIN:VCALENDAR
VERSION:2.0
PRODID:-//FC FORTUNA SCHLANGEN - ECPv6.15.20//NONSGML v1.0//EN
CALSCALE:GREGORIAN
METHOD:PUBLISH
X-WR-CALNAME:FC FORTUNA SCHLANGEN
X-ORIGINAL-URL:https://fortuna-schlangen.de
X-WR-CALDESC:Veranstaltungen für FC FORTUNA SCHLANGEN
REFRESH-INTERVAL;VALUE=DURATION:PT1H
X-Robots-Tag:noindex
X-PUBLISHED-TTL:PT1H
BEGIN:VTIMEZONE
TZID:Europe/Berlin
BEGIN:DAYLIGHT
TZOFFSETFROM:+0100
TZOFFSETTO:+0200
TZNAME:CEST
DTSTART:20230326T010000
END:DAYLIGHT
BEGIN:STANDARD
TZOFFSETFROM:+0200
TZOFFSETTO:+0100
TZNAME:CET
DTSTART:20231029T010000
END:STANDARD
BEGIN:DAYLIGHT
TZOFFSETFROM:+0100
TZOFFSETTO:+0200
TZNAME:CEST
DTSTART:20240331T010000
END:DAYLIGHT
BEGIN:STANDARD
TZOFFSETFROM:+0200
TZOFFSETTO:+0100
TZNAME:CET
DTSTART:20241027T010000
END:STANDARD
BEGIN:DAYLIGHT
TZOFFSETFROM:+0100
TZOFFSETTO:+0200
TZNAME:CEST
DTSTART:20250330T010000
END:DAYLIGHT
BEGIN:STANDARD
TZOFFSETFROM:+0200
TZOFFSETTO:+0100
TZNAME:CET
DTSTART:20251026T010000
END:STANDARD
END:VTIMEZONE
BEGIN:VEVENT
DTSTART;TZID=Europe/Berlin:20240803T103000
DTEND;TZID=Europe/Berlin:20240803T120000
DTSTAMP:20260425T182002
CREATED:20240725T180916Z
LAST-MODIFIED:20240725T180916Z
UID:21274-1722681000-1722686400@fortuna-schlangen.de
SUMMARY:Trainingseinheit der C1-JSG ! Beginn: 10:30 Uhr !
DESCRIPTION:Kompletter Platz ! Einheit in Schlangen von 10:30 Uhr – 12 Uhr !
URL:https://fortuna-schlangen.de/event/trainingseinheit-der-c1-jsg-beginn-1030-uhr/
LOCATION:Kunstrasenplatz Rennekamp\, Badstraße\, Schlangen\, NRW\, 33189\, Deutschland
CATEGORIES:Sonstige Veranstaltung,Trainerbesprechung,Training
END:VEVENT
BEGIN:VEVENT
DTSTART;TZID=Europe/Berlin:20240803T123000
DTEND;TZID=Europe/Berlin:20240803T150000
DTSTAMP:20260425T182002
CREATED:20240527T164737Z
LAST-MODIFIED:20240528T183758Z
UID:20820-1722688200-1722697200@fortuna-schlangen.de
SUMMARY:2. Mannschaft Fortuna  -  FC Marl 3 / T-Spiel ; 13 Uhr !
DESCRIPTION:Testspiel/Meisterschaftsspiel ; Anstoss um 13:00 Uhr in Schlangen !
URL:https://fortuna-schlangen.de/event/3-8-2-mannschaft-gegner-offen-t-spiel-13-uhr/
LOCATION:Kunstrasenplatz Rennekamp\, Badstraße\, Schlangen\, NRW\, 33189\, Deutschland
CATEGORIES:Freundschaftsspiel,Sonstige Veranstaltung,Training
END:VEVENT
END:VCALENDAR