BEGIN:VCALENDAR
VERSION:2.0
PRODID:-//FC FORTUNA SCHLANGEN - ECPv6.15.20//NONSGML v1.0//EN
CALSCALE:GREGORIAN
METHOD:PUBLISH
X-ORIGINAL-URL:https://fortuna-schlangen.de
X-WR-CALDESC:Veranstaltungen für FC FORTUNA SCHLANGEN
REFRESH-INTERVAL;VALUE=DURATION:PT1H
X-Robots-Tag:noindex
X-PUBLISHED-TTL:PT1H
BEGIN:VTIMEZONE
TZID:Europe/Berlin
BEGIN:DAYLIGHT
TZOFFSETFROM:+0100
TZOFFSETTO:+0200
TZNAME:CEST
DTSTART:20230326T010000
END:DAYLIGHT
BEGIN:STANDARD
TZOFFSETFROM:+0200
TZOFFSETTO:+0100
TZNAME:CET
DTSTART:20231029T010000
END:STANDARD
BEGIN:DAYLIGHT
TZOFFSETFROM:+0100
TZOFFSETTO:+0200
TZNAME:CEST
DTSTART:20240331T010000
END:DAYLIGHT
BEGIN:STANDARD
TZOFFSETFROM:+0200
TZOFFSETTO:+0100
TZNAME:CET
DTSTART:20241027T010000
END:STANDARD
BEGIN:DAYLIGHT
TZOFFSETFROM:+0100
TZOFFSETTO:+0200
TZNAME:CEST
DTSTART:20250330T010000
END:DAYLIGHT
BEGIN:STANDARD
TZOFFSETFROM:+0200
TZOFFSETTO:+0100
TZNAME:CET
DTSTART:20251026T010000
END:STANDARD
END:VTIMEZONE
BEGIN:VEVENT
DTSTART;TZID=Europe/Berlin:20240707T103000
DTEND;TZID=Europe/Berlin:20240707T131500
DTSTAMP:20260425T182514
CREATED:20231212T171211Z
LAST-MODIFIED:20231212T172612Z
UID:19770-1720348200-1720358100@fortuna-schlangen.de
SUMMARY:Sportabzeichen VfL Schlangen / Von 11 - 13 Uhr !
DESCRIPTION:Training / Übungen / Sportabzeichen ; Von 11:00 Uhr – 13:00 Uhr in Schlangen !
URL:https://fortuna-schlangen.de/event/sportabzeichen-vfl-schlangen-von-1830-20-uhr-3/
LOCATION:Laufbahn Sportanlage Rennekamp
CATEGORIES:Sonstige Veranstaltung,Training
END:VEVENT
BEGIN:VEVENT
DTSTART;TZID=Europe/Berlin:20240707T133000
DTEND;TZID=Europe/Berlin:20240707T153000
DTSTAMP:20260425T182514
CREATED:20240530T182856Z
LAST-MODIFIED:20240530T182856Z
UID:20852-1720359000-1720366200@fortuna-schlangen.de
SUMMARY:Trainingseinheit der 2. Mannschaft von Fortuna\, ab 13:30 Uhr \, gesamter Platz !
DESCRIPTION:Taktischen und spielerischen Bereich ! \nAb 13:30 Uhr !
URL:https://fortuna-schlangen.de/event/trainingseinheit-der-2-mannschaft-von-fortuna-ab-1330-uhr-gesamter-platz/
LOCATION:Kunstrasenplatz Rennekamp\, Badstraße\, Schlangen\, NRW\, 33189\, Deutschland
CATEGORIES:Sonstige Veranstaltung,Training
END:VEVENT
END:VCALENDAR