BEGIN:VCALENDAR
VERSION:2.0
PRODID:-//FC FORTUNA SCHLANGEN - ECPv6.15.20//NONSGML v1.0//EN
CALSCALE:GREGORIAN
METHOD:PUBLISH
X-ORIGINAL-URL:https://fortuna-schlangen.de
X-WR-CALDESC:Veranstaltungen für FC FORTUNA SCHLANGEN
REFRESH-INTERVAL;VALUE=DURATION:PT1H
X-Robots-Tag:noindex
X-PUBLISHED-TTL:PT1H
BEGIN:VTIMEZONE
TZID:Europe/Berlin
BEGIN:DAYLIGHT
TZOFFSETFROM:+0100
TZOFFSETTO:+0200
TZNAME:CEST
DTSTART:20230326T010000
END:DAYLIGHT
BEGIN:STANDARD
TZOFFSETFROM:+0200
TZOFFSETTO:+0100
TZNAME:CET
DTSTART:20231029T010000
END:STANDARD
BEGIN:DAYLIGHT
TZOFFSETFROM:+0100
TZOFFSETTO:+0200
TZNAME:CEST
DTSTART:20240331T010000
END:DAYLIGHT
BEGIN:STANDARD
TZOFFSETFROM:+0200
TZOFFSETTO:+0100
TZNAME:CET
DTSTART:20241027T010000
END:STANDARD
BEGIN:DAYLIGHT
TZOFFSETFROM:+0100
TZOFFSETTO:+0200
TZNAME:CEST
DTSTART:20250330T010000
END:DAYLIGHT
BEGIN:STANDARD
TZOFFSETFROM:+0200
TZOFFSETTO:+0100
TZNAME:CET
DTSTART:20251026T010000
END:STANDARD
END:VTIMEZONE
BEGIN:VEVENT
DTSTART;TZID=Europe/Berlin:20240627T180000
DTEND;TZID=Europe/Berlin:20240627T193000
DTSTAMP:20260425T153613
CREATED:20240624T093026Z
LAST-MODIFIED:20240624T093026Z
UID:21002-1719511200-1719516600@fortuna-schlangen.de
SUMMARY:Neue B1 - Letzte Einheit in dieser Saison ab 18 Uhr !
DESCRIPTION:In Schlangen ab 18 Uhr !
URL:https://fortuna-schlangen.de/event/neue-b1-letzte-einheit-in-dieser-saison-ab-18-uhr/
LOCATION:Kunstrasen – Platzhälfte Nord\, Badstraße\, Schlangen\, NRW\, 33189\, Deutschland
CATEGORIES:Sonstige Veranstaltung,Training
END:VEVENT
BEGIN:VEVENT
DTSTART;TZID=Europe/Berlin:20240627T180000
DTEND;TZID=Europe/Berlin:20240627T203000
DTSTAMP:20260425T153613
CREATED:20240622T093711Z
LAST-MODIFIED:20240622T093711Z
UID:20983-1719511200-1719520200@fortuna-schlangen.de
SUMMARY:Abschluss der F1-Junioren\, Sporthaus ab 18 Uhr !
DESCRIPTION:Kleine gemütliche Runde \, damit Ausklang der Saison 2023/24 !
URL:https://fortuna-schlangen.de/event/abschluss-der-f1-junioren-sporthaus-ab-18-uhr/
LOCATION:Vereinsheim Terrasse
CATEGORIES:Sonstige Veranstaltung,Vereinsheim Terrasse
END:VEVENT
BEGIN:VEVENT
DTSTART;TZID=Europe/Berlin:20240627T190000
DTEND;TZID=Europe/Berlin:20240627T210000
DTSTAMP:20260425T153613
CREATED:20240621T123900Z
LAST-MODIFIED:20240621T123900Z
UID:20971-1719514800-1719522000@fortuna-schlangen.de
SUMMARY:Nutzung Sponsor ScoccerArena ab 19 Uhr
DESCRIPTION:Nutzung ScoccerArena ab 19 Uhr durch Sponsor
URL:https://fortuna-schlangen.de/event/nutzung-sponsor-scoccerarena-ab-19-uhr/
LOCATION:ScoccerArena
CATEGORIES:Training
END:VEVENT
BEGIN:VEVENT
DTSTART;TZID=Europe/Berlin:20240627T193000
DTEND;TZID=Europe/Berlin:20240627T210000
DTSTAMP:20260425T153613
CREATED:20240626T152757Z
LAST-MODIFIED:20240626T152757Z
UID:21011-1719516600-1719522000@fortuna-schlangen.de
SUMMARY:Kleine Vorbereitungszeit der A2-JSG ! Beginn: 19:30 Uhr !
DESCRIPTION:Eine Einheit in Schlangen ab 19:30 Uhr !
URL:https://fortuna-schlangen.de/event/kleine-vorbereitungszeit-der-a2-jsg-beginn-1930-uhr/
LOCATION:Kunstrasen – Platzhälfte Nord\, Badstraße\, Schlangen\, NRW\, 33189\, Deutschland
CATEGORIES:Sonstige Veranstaltung,Training
END:VEVENT
END:VCALENDAR