BEGIN:VCALENDAR
VERSION:2.0
PRODID:-//FC FORTUNA SCHLANGEN - ECPv6.15.20//NONSGML v1.0//EN
CALSCALE:GREGORIAN
METHOD:PUBLISH
X-ORIGINAL-URL:https://fortuna-schlangen.de
X-WR-CALDESC:Veranstaltungen für FC FORTUNA SCHLANGEN
REFRESH-INTERVAL;VALUE=DURATION:PT1H
X-Robots-Tag:noindex
X-PUBLISHED-TTL:PT1H
BEGIN:VTIMEZONE
TZID:Europe/Berlin
BEGIN:DAYLIGHT
TZOFFSETFROM:+0100
TZOFFSETTO:+0200
TZNAME:CEST
DTSTART:20230326T010000
END:DAYLIGHT
BEGIN:STANDARD
TZOFFSETFROM:+0200
TZOFFSETTO:+0100
TZNAME:CET
DTSTART:20231029T010000
END:STANDARD
BEGIN:DAYLIGHT
TZOFFSETFROM:+0100
TZOFFSETTO:+0200
TZNAME:CEST
DTSTART:20240331T010000
END:DAYLIGHT
BEGIN:STANDARD
TZOFFSETFROM:+0200
TZOFFSETTO:+0100
TZNAME:CET
DTSTART:20241027T010000
END:STANDARD
BEGIN:DAYLIGHT
TZOFFSETFROM:+0100
TZOFFSETTO:+0200
TZNAME:CEST
DTSTART:20250330T010000
END:DAYLIGHT
BEGIN:STANDARD
TZOFFSETFROM:+0200
TZOFFSETTO:+0100
TZNAME:CET
DTSTART:20251026T010000
END:STANDARD
END:VTIMEZONE
BEGIN:VEVENT
DTSTART;TZID=Europe/Berlin:20240622T093000
DTEND;TZID=Europe/Berlin:20240622T110000
DTSTAMP:20260425T153600
CREATED:20240214T121951Z
LAST-MODIFIED:20240214T121951Z
UID:20297-1719048600-1719054000@fortuna-schlangen.de
SUMMARY:E1-JSG  -  JSG Hiddesen-Heidenoldendorf / M-Spiel ; 10 Uhr !
DESCRIPTION:Meisterschaftsspiel ; Anstoss um 10:00 Uhr in Schlangen !
URL:https://fortuna-schlangen.de/event/e1-jsg-jsg-hiddesen-heidenoldendorf-m-spiel-10-uhr/
LOCATION:Kunstrasen – Platzhälfte Nord\, Badstraße\, Schlangen\, NRW\, 33189\, Deutschland
CATEGORIES:Meisterschaftsspiel,Sonstige Veranstaltung
END:VEVENT
BEGIN:VEVENT
DTSTART;TZID=Europe/Berlin:20240622T110000
DTEND;TZID=Europe/Berlin:20240622T123000
DTSTAMP:20260425T153600
CREATED:20240425T174832Z
LAST-MODIFIED:20240425T174832Z
UID:20698-1719054000-1719059400@fortuna-schlangen.de
SUMMARY:E2-JSG  -  SV Eintr. Jerxen-Orbke 2 / M-Spiel ; 11:30 Uhr !
DESCRIPTION:Meisterschaftsspiel ; Anstoss um 11:30 Uhr in Schlangen !
URL:https://fortuna-schlangen.de/event/e2-jsg-sv-eintr-jerxen-orbke-2-m-spiel-1130-uhr/
LOCATION:Kunstrasen – Platzhälfte Nord\, Badstraße\, Schlangen\, NRW\, 33189\, Deutschland
CATEGORIES:Meisterschaftsspiel,Sonstige Veranstaltung
END:VEVENT
BEGIN:VEVENT
DTSTART;TZID=Europe/Berlin:20240622T110000
DTEND;TZID=Europe/Berlin:20240622T180000
DTSTAMP:20260425T153600
CREATED:20240518T121140Z
LAST-MODIFIED:20240518T121140Z
UID:20769-1719054000-1719079200@fortuna-schlangen.de
SUMMARY:Saisonabschluss E1 und E2
DESCRIPTION:Saisonabschluss E1 und E2
URL:https://fortuna-schlangen.de/event/saisonabschluss-e1-und-e2/
LOCATION:Vereinsheim und Terrasse
CATEGORIES:Mannschaftsnachmittag,Vereinsheim Terrasse
END:VEVENT
BEGIN:VEVENT
DTSTART;TZID=Europe/Berlin:20240622T133000
DTEND;TZID=Europe/Berlin:20240622T150000
DTSTAMP:20260425T153600
CREATED:20240214T122258Z
LAST-MODIFIED:20240214T122258Z
UID:20300-1719063000-1719068400@fortuna-schlangen.de
SUMMARY:Kohlstädt: E3-JSG  -  CSL Detmold 2 / M-Spiel ; 14 Uhr !
DESCRIPTION:Meisterschaftsspiel ; Anstoss um 14:00 Uhr in Kohlstädt !
URL:https://fortuna-schlangen.de/event/kohlstaedt-e3-jsg-csl-detmold-2-m-spiel-14-uhr/
LOCATION:Rasenplatz in Kohlstädt\, In der Rote\, Schlangen\, Nordrhein-Westfalen\, 33189
CATEGORIES:Meisterschaftsspiel,Sonstige Veranstaltung
END:VEVENT
END:VCALENDAR