BEGIN:VCALENDAR
VERSION:2.0
PRODID:-//FC FORTUNA SCHLANGEN - ECPv6.15.20//NONSGML v1.0//EN
CALSCALE:GREGORIAN
METHOD:PUBLISH
X-ORIGINAL-URL:https://fortuna-schlangen.de
X-WR-CALDESC:Veranstaltungen für FC FORTUNA SCHLANGEN
REFRESH-INTERVAL;VALUE=DURATION:PT1H
X-Robots-Tag:noindex
X-PUBLISHED-TTL:PT1H
BEGIN:VTIMEZONE
TZID:Europe/Berlin
BEGIN:DAYLIGHT
TZOFFSETFROM:+0100
TZOFFSETTO:+0200
TZNAME:CEST
DTSTART:20230326T010000
END:DAYLIGHT
BEGIN:STANDARD
TZOFFSETFROM:+0200
TZOFFSETTO:+0100
TZNAME:CET
DTSTART:20231029T010000
END:STANDARD
BEGIN:DAYLIGHT
TZOFFSETFROM:+0100
TZOFFSETTO:+0200
TZNAME:CEST
DTSTART:20240331T010000
END:DAYLIGHT
BEGIN:STANDARD
TZOFFSETFROM:+0200
TZOFFSETTO:+0100
TZNAME:CET
DTSTART:20241027T010000
END:STANDARD
BEGIN:DAYLIGHT
TZOFFSETFROM:+0100
TZOFFSETTO:+0200
TZNAME:CEST
DTSTART:20250330T010000
END:DAYLIGHT
BEGIN:STANDARD
TZOFFSETFROM:+0200
TZOFFSETTO:+0100
TZNAME:CET
DTSTART:20251026T010000
END:STANDARD
END:VTIMEZONE
BEGIN:VEVENT
DTSTART;TZID=Europe/Berlin:20240618T183000
DTEND;TZID=Europe/Berlin:20240618T203000
DTSTAMP:20260425T165319
CREATED:20240609T034925Z
LAST-MODIFIED:20240609T034925Z
UID:20902-1718735400-1718742600@fortuna-schlangen.de
SUMMARY:Jugendtrainersitzung im Sporthaus ab 18:30 Uhr !
DESCRIPTION:Besprechung für die neue Saison 2024/25 ab 18:30 Uhr !
URL:https://fortuna-schlangen.de/event/jugendtrainersitzung-im-sporthaus-ab-1830-uhr/
LOCATION:Vereinsheim\, Badstraße\, Schlangen\, NRW\, 33189\, Deutschland
CATEGORIES:Jugendtrainersitzung,Sonstige Veranstaltung,VEREINSHEIM
END:VEVENT
BEGIN:VEVENT
DTSTART;TZID=Europe/Berlin:20240618T190000
DTEND;TZID=Europe/Berlin:20240618T203000
DTSTAMP:20260425T165319
CREATED:20240610T102042Z
LAST-MODIFIED:20240610T102042Z
UID:20910-1718737200-1718742600@fortuna-schlangen.de
SUMMARY:Kleine Vorbereitungszeit der A2-JSG in Schlangen ! Ab 19 Uhr !
DESCRIPTION:Kleine Vorbereitung vor der normalen Vorbereitung ! Ab 19:00 Uhr in Schlangen!
URL:https://fortuna-schlangen.de/event/kleine-vorbereitungszeit-der-a2-jsg-in-schlangen-ab-19-uhr/
LOCATION:Kunstrasenplatz Rennekamp\, Badstraße\, Schlangen\, NRW\, 33189\, Deutschland
CATEGORIES:Trainerbesprechung,Training
END:VEVENT
END:VCALENDAR