BEGIN:VCALENDAR
VERSION:2.0
PRODID:-//FC FORTUNA SCHLANGEN - ECPv6.15.20//NONSGML v1.0//EN
CALSCALE:GREGORIAN
METHOD:PUBLISH
X-ORIGINAL-URL:https://fortuna-schlangen.de
X-WR-CALDESC:Veranstaltungen für FC FORTUNA SCHLANGEN
REFRESH-INTERVAL;VALUE=DURATION:PT1H
X-Robots-Tag:noindex
X-PUBLISHED-TTL:PT1H
BEGIN:VTIMEZONE
TZID:Europe/Berlin
BEGIN:DAYLIGHT
TZOFFSETFROM:+0100
TZOFFSETTO:+0200
TZNAME:CEST
DTSTART:20230326T010000
END:DAYLIGHT
BEGIN:STANDARD
TZOFFSETFROM:+0200
TZOFFSETTO:+0100
TZNAME:CET
DTSTART:20231029T010000
END:STANDARD
BEGIN:DAYLIGHT
TZOFFSETFROM:+0100
TZOFFSETTO:+0200
TZNAME:CEST
DTSTART:20240331T010000
END:DAYLIGHT
BEGIN:STANDARD
TZOFFSETFROM:+0200
TZOFFSETTO:+0100
TZNAME:CET
DTSTART:20241027T010000
END:STANDARD
BEGIN:DAYLIGHT
TZOFFSETFROM:+0100
TZOFFSETTO:+0200
TZNAME:CEST
DTSTART:20250330T010000
END:DAYLIGHT
BEGIN:STANDARD
TZOFFSETFROM:+0200
TZOFFSETTO:+0100
TZNAME:CET
DTSTART:20251026T010000
END:STANDARD
END:VTIMEZONE
BEGIN:VEVENT
DTSTART;TZID=Europe/Berlin:20240530T090000
DTEND;TZID=Europe/Berlin:20240530T210000
DTSTAMP:20260425T135406
CREATED:20240319T165712Z
LAST-MODIFIED:20240319T171625Z
UID:20563-1717059600-1717102800@fortuna-schlangen.de
SUMMARY:Handballwoche 2024 im Sportzentrum " Am Rennekamp " ! Mit Handballturniere\, ab Morgens !
DESCRIPTION:Auf dem Feiertag sind Turniere geplant. Beginn : Vormittags !
URL:https://fortuna-schlangen.de/event/handballwoche-2024-am-sportzentrum-am-rennekamp-mit-handballturniere-ab-morgens/
LOCATION:Gesamtes Fortuna Sportgelände\, Badstraße\, Schlangen\, 33189\, Deutschland
CATEGORIES:Sonstige Veranstaltung,Sportwoche,Turnier
END:VEVENT
END:VCALENDAR