BEGIN:VCALENDAR
VERSION:2.0
PRODID:-//FC FORTUNA SCHLANGEN - ECPv6.15.20//NONSGML v1.0//EN
CALSCALE:GREGORIAN
METHOD:PUBLISH
X-ORIGINAL-URL:https://fortuna-schlangen.de
X-WR-CALDESC:Veranstaltungen für FC FORTUNA SCHLANGEN
REFRESH-INTERVAL;VALUE=DURATION:PT1H
X-Robots-Tag:noindex
X-PUBLISHED-TTL:PT1H
BEGIN:VTIMEZONE
TZID:Europe/Berlin
BEGIN:DAYLIGHT
TZOFFSETFROM:+0100
TZOFFSETTO:+0200
TZNAME:CEST
DTSTART:20230326T010000
END:DAYLIGHT
BEGIN:STANDARD
TZOFFSETFROM:+0200
TZOFFSETTO:+0100
TZNAME:CET
DTSTART:20231029T010000
END:STANDARD
BEGIN:DAYLIGHT
TZOFFSETFROM:+0100
TZOFFSETTO:+0200
TZNAME:CEST
DTSTART:20240331T010000
END:DAYLIGHT
BEGIN:STANDARD
TZOFFSETFROM:+0200
TZOFFSETTO:+0100
TZNAME:CET
DTSTART:20241027T010000
END:STANDARD
BEGIN:DAYLIGHT
TZOFFSETFROM:+0100
TZOFFSETTO:+0200
TZNAME:CEST
DTSTART:20250330T010000
END:DAYLIGHT
BEGIN:STANDARD
TZOFFSETFROM:+0200
TZOFFSETTO:+0100
TZNAME:CET
DTSTART:20251026T010000
END:STANDARD
END:VTIMEZONE
BEGIN:VEVENT
DTSTART;TZID=Europe/Berlin:20240518T100000
DTEND;TZID=Europe/Berlin:20240518T113000
DTSTAMP:20260425T134453
CREATED:20240515T065937Z
LAST-MODIFIED:20240515T065937Z
UID:20762-1716026400-1716031800@fortuna-schlangen.de
SUMMARY:E1-JSG  -  BV Bad Lippspringe 1 / T-Spiel ; 10:30 Uhr !
DESCRIPTION:Freundschaftsspiel/Testspiel ; Anstoss um 10:30 Uhr in Schlangen !
URL:https://fortuna-schlangen.de/event/e1-jsg-bv-bad-lippspringe-1-t-spiel-1030-uhr/
LOCATION:Kunstrasen – Platzhälfte Nord\, Badstraße\, Schlangen\, NRW\, 33189\, Deutschland
CATEGORIES:Freundschaftsspiel,Sonstige Veranstaltung,Training
END:VEVENT
BEGIN:VEVENT
DTSTART;TZID=Europe/Berlin:20240518T100000
DTEND;TZID=Europe/Berlin:20240518T113000
DTSTAMP:20260425T134453
CREATED:20240515T070405Z
LAST-MODIFIED:20240515T070610Z
UID:20765-1716026400-1716031800@fortuna-schlangen.de
SUMMARY:E2-JSG   -  BV Bad Lippspringe 2 / T-Spiel ; 10:30 Uhr !
DESCRIPTION:Freundschaftsspiel/Testspiel ; Anstoss um 10:30 Uhr in Schlangen !
URL:https://fortuna-schlangen.de/event/e2-jsg-bv-bad-lippspringe-2-t-spiel-1030-uhr/
LOCATION:Kunstrasen – Platzhälfte Süd\, Badstraße\, Schlangen\, NRW\, 33189\, Deutschland
CATEGORIES:Freundschaftsspiel,Sonstige Veranstaltung,Training
END:VEVENT
BEGIN:VEVENT
DTSTART;TZID=Europe/Berlin:20240518T153000
DTEND;TZID=Europe/Berlin:20240518T180000
DTSTAMP:20260425T134453
CREATED:20240102T123645Z
LAST-MODIFIED:20240410T063623Z
UID:19884-1716046200-1716055200@fortuna-schlangen.de
SUMMARY:A1-JSG  -  SF DJK Mastbruch / T-Spiel ; 16 Uhr !
DESCRIPTION:Testspiel/Freundschaftsspiel ; Anstoss um 16:00 Uhr in Schlangen !
URL:https://fortuna-schlangen.de/event/a1-jsg-sf-djk-mastbruch-t-spiel-eventuell-1530-o-16-uhr/
LOCATION:Kunstrasenplatz Rennekamp\, Badstraße\, Schlangen\, NRW\, 33189\, Deutschland
CATEGORIES:Freundschaftsspiel,Sonstige Veranstaltung,Training
END:VEVENT
END:VCALENDAR